BEGIN:VCALENDAR
VERSION:2.0
PRODID:-//Colloquium Humanum e.V. - ECPv6.15.20//NONSGML v1.0//EN
CALSCALE:GREGORIAN
METHOD:PUBLISH
X-WR-CALNAME:Colloquium Humanum e.V.
X-ORIGINAL-URL:https://ch-bonn.de
X-WR-CALDESC:Veranstaltungen für Colloquium Humanum e.V.
REFRESH-INTERVAL;VALUE=DURATION:PT1H
X-Robots-Tag:noindex
X-PUBLISHED-TTL:PT1H
BEGIN:VTIMEZONE
TZID:Europe/Berlin
BEGIN:DAYLIGHT
TZOFFSETFROM:+0100
TZOFFSETTO:+0200
TZNAME:CEST
DTSTART:20230326T010000
END:DAYLIGHT
BEGIN:STANDARD
TZOFFSETFROM:+0200
TZOFFSETTO:+0100
TZNAME:CET
DTSTART:20231029T010000
END:STANDARD
BEGIN:DAYLIGHT
TZOFFSETFROM:+0100
TZOFFSETTO:+0200
TZNAME:CEST
DTSTART:20240331T010000
END:DAYLIGHT
BEGIN:STANDARD
TZOFFSETFROM:+0200
TZOFFSETTO:+0100
TZNAME:CET
DTSTART:20241027T010000
END:STANDARD
BEGIN:DAYLIGHT
TZOFFSETFROM:+0100
TZOFFSETTO:+0200
TZNAME:CEST
DTSTART:20250330T010000
END:DAYLIGHT
BEGIN:STANDARD
TZOFFSETFROM:+0200
TZOFFSETTO:+0100
TZNAME:CET
DTSTART:20251026T010000
END:STANDARD
END:VTIMEZONE
BEGIN:VEVENT
DTSTART;TZID=Europe/Berlin:20240902T190000
DTEND;TZID=Europe/Berlin:20240902T190000
DTSTAMP:20260419T164619
CREATED:20231219T122046Z
LAST-MODIFIED:20240905T150457Z
UID:6177-1725303600-1725303600@ch-bonn.de
SUMMARY:Vortrag von Dr. Ulrike Hospes\, Landesbeauftragte und Leiterin Politisches Bildungsforum NRW sowie Leiterin Büro Bundesstadt Bonn der Konrad-Adenauer-Stiftung e.V.: "Gemeinsam.Demokratie.Gestalten. Die Arbeit der Konrad-Adenauer-Stiftung in NRW".
DESCRIPTION:Der Ruf nach politischer Bildung wird lauter in diesen Tagen. Ein aggressiverer Umgang in der politischen Diskussion\, mangelnde Medien- und Quellenkompetenz\, sogenannte Filterblasen und nicht zuletzt die zunehmende Polarisierung gegenüber Andersdenkenden vermitteln das Gefühl einer gespaltenen Gesellschaft. \nWie sieht politische Bildungsarbeit in der Praxis aus? Einen Einblick in die Arbeit der Konrad-Adenauer-Stiftung in Nordrhein-Westfalen gibt uns Dr. Ulrike Hospes. \nVor nunmehr bald 69 Jahren wurde am 20. Dezember 1955 durch Eintrag ins Vereinsregister des Amtsgerichts Bonn die Gründung der „Gesellschaft für christlich-demokratische Bildungsarbeit e.V.“ vollzogen. Seit dem 13. Oktober 1964 erfolgte die Namensänderung in „Konrad-Adenauer-Stiftung für politische Bildung und Studienförderung e.V.“; am 21. Juni 1976 in den heute gültigen Namen „Konrad-Adenauer-Stiftung e.V.“.
URL:https://ch-bonn.de/event/vortrag-von-dr-ulrike-hospes-landesbeauftragte-und-leiterin-politisches-bildungsforum-nrw-sowie-leiterin-buero-bundesstadt-bonn-der-konrad-adenauer-stiftung-e-v-gemeinsam-demokratie-gestalten-d/
LOCATION:Trinkpavillon/Kurfürstenquelle Bad Godesberg\, Koblenzer Str. 80\, Bonn\, 53177
CATEGORIES:Vortrag
END:VEVENT
BEGIN:VEVENT
DTSTART;TZID=Europe/Berlin:20240910T190000
DTEND;TZID=Europe/Berlin:20240910T190000
DTSTAMP:20260419T164619
CREATED:20240716T105150Z
LAST-MODIFIED:20240917T105204Z
UID:6834-1725994800-1725994800@ch-bonn.de
SUMMARY:Jahreshauptversammlung
DESCRIPTION:TAGESORDNUNG: \n\nEröffnung\n\n\nTotenehrung\n\n\nTätigkeitsberichte:\n\n3.1       Präsident \n3.2       die Vorsitzende des Beirats \n3.3       Finanzbericht des Schatzmeisters \n\nBericht des Kassenprüfers\n\n\nEntlastung des Präsidiums\n\n\nBestellung des Kassenprüfers\n\n\nVerschiedenes\n\nVeranstaltungsübersicht 2023\, Finanzbericht und Jahresabschluss 2023/Prognose 2024 liegen zu Beginn der Jahreshauptversammlung für Sie aus. \nIch würde mich freuen\, möglichst viele Mitglieder zu unserer Versammlung begrüßen zu können. \nMit freundlichen Grüßen \nAndreas Loesch – Präsident
URL:https://ch-bonn.de/event/jahreshauptversammlung/
LOCATION:Trinkpavillon/Kurfürstenquelle Bad Godesberg\, Koblenzer Str. 80\, Bonn\, 53177
CATEGORIES:Jahreshauptversammlung
END:VEVENT
BEGIN:VEVENT
DTSTART;VALUE=DATE:20240911
DTEND;VALUE=DATE:20240912
DTSTAMP:20260419T164619
CREATED:20240723T091253Z
LAST-MODIFIED:20240917T105232Z
UID:6844-1726012800-1726099199@ch-bonn.de
SUMMARY:CHD - Tagestour nach Essen zur Villa Hügel und Margarethenhöhe
DESCRIPTION:2023 feierte die Villa Hügel\, idyllisch oberhalb des Baldeneysees gelegen und ehemalige Residenz und Repräsentationsstätte von vier Generationen der im Deutschen Reich mächtigsten Industriellendynastie Krupp\, ihr 150-jähriges Jubiläum. Zahlreiche Prominente und gekrönte Häupter gingen in der schlossähnlichen Villa mit 269 Zimmern\, die 1873 vom Industrie-Baron Alfred Krupp für 5\,7 Millionen Mark erbaut wurde\, ein und aus. Heute ist das beeindruckende Krupp-Anwesen mit dem 28 Hektar großen Park eine der bedeutendsten Sehenswürdigkeiten an Rhein und Ruhr sowie Ankerpunkt und Herzstück der Route der Industriekultur. \nDie Gartenstadt Margarethenhöhe ist ein beschaulicher Stadtteil und verdankt ihren Namen Margarethe Krupp\, die 1906 die untypische Arbeitersiedlung anlässlich der Hochzeit ihrer Tochter Bertha stiftete. Schon bei ihrer Entstehung galt sie als Paradebeispiel menschenfreundlicher Siedlungsbauweise. Verwunschene Häuschen und ein Blick in die komplett eingerichtete Musterwohnung vermitteln einen lebendigen Eindruck der damaligen Wohnverhältnisse. \nColloquium Humanum e.V. tritt im juristischen Sinn nicht als Reiseveranstalter auf und schließt damit jede Haftung aus.
URL:https://ch-bonn.de/event/chd-tagestour-nach-essen-zur-villa-huegel-und-margarethenhoehe/
CATEGORIES:(CHD) Tagestour
END:VEVENT
END:VCALENDAR