BEGIN:VCALENDAR
VERSION:2.0
PRODID:-//Colloquium Humanum e.V. - ECPv6.15.20//NONSGML v1.0//EN
CALSCALE:GREGORIAN
METHOD:PUBLISH
X-ORIGINAL-URL:https://ch-bonn.de
X-WR-CALDESC:Veranstaltungen für Colloquium Humanum e.V.
REFRESH-INTERVAL;VALUE=DURATION:PT1H
X-Robots-Tag:noindex
X-PUBLISHED-TTL:PT1H
BEGIN:VTIMEZONE
TZID:Europe/Berlin
BEGIN:DAYLIGHT
TZOFFSETFROM:+0100
TZOFFSETTO:+0200
TZNAME:CEST
DTSTART:20230326T010000
END:DAYLIGHT
BEGIN:STANDARD
TZOFFSETFROM:+0200
TZOFFSETTO:+0100
TZNAME:CET
DTSTART:20231029T010000
END:STANDARD
BEGIN:DAYLIGHT
TZOFFSETFROM:+0100
TZOFFSETTO:+0200
TZNAME:CEST
DTSTART:20240331T010000
END:DAYLIGHT
BEGIN:STANDARD
TZOFFSETFROM:+0200
TZOFFSETTO:+0100
TZNAME:CET
DTSTART:20241027T010000
END:STANDARD
BEGIN:DAYLIGHT
TZOFFSETFROM:+0100
TZOFFSETTO:+0200
TZNAME:CEST
DTSTART:20250330T010000
END:DAYLIGHT
BEGIN:STANDARD
TZOFFSETFROM:+0200
TZOFFSETTO:+0100
TZNAME:CET
DTSTART:20251026T010000
END:STANDARD
END:VTIMEZONE
BEGIN:VEVENT
DTSTART;TZID=Europe/Berlin:20240711T170000
DTEND;TZID=Europe/Berlin:20240711T170000
DTSTAMP:20260421T140724
CREATED:20240222T101254Z
LAST-MODIFIED:20240521T111315Z
UID:6349-1720717200-1720717200@ch-bonn.de
SUMMARY:Fröhliches Sommerfest
DESCRIPTION:Ein unvergessliches Musikerlebnis garantiert – wie beim letzten Mal – Matano aus Kenia. \nWir freuen uns auf Ihr fantasievolles Outfit. Die drei besten werden prämiert! \nKostenbeitrag: (inkl. BBQ-Buffet und 1 Getränk) – weitere Getränke Selbstzahlung vor Ort. \n45\,00 € Mitglieder  –  50\,00 € Gäste \nKeine Zahlung vor Ort möglich! \nAnmeldung: \nNUR im CH-Büro telefonisch unter 02208 76 73 85 oder per Mail an ch-bonn-1960@t-online.de\, ggfs. unter Angabe der Vor- und Nachnamen Ihrer Gäste. \nNachdem Sie sich angemeldet haben\, überweisen Sie bitte den entsprechenden Kostenbeitrag bis spätestens 30.06.2024 (=Zahlungseingang!) auf unser Konto bei der Commerzbank mit der IBAN: DE35 3804 0007 0105 4428 00. \nOhne vorherige Anmeldung und Überweisung ist leider keine Teilnahme möglich! \nDie Anmeldung verpflichtet zur Zahlung. Eine Rückerstattung ist nur bei Ausfall der Veranstaltung möglich.
URL:https://ch-bonn.de/event/sommerfest-5/
LOCATION:Gasthaus Waldau\, An der Waldau 50\, 53127 Bonn-Venusberg
CATEGORIES:Fest
END:VEVENT
END:VCALENDAR