BEGIN:VCALENDAR
VERSION:2.0
PRODID:-//Colloquium Humanum e.V. - ECPv6.15.20//NONSGML v1.0//EN
CALSCALE:GREGORIAN
METHOD:PUBLISH
X-ORIGINAL-URL:https://ch-bonn.de
X-WR-CALDESC:Veranstaltungen für Colloquium Humanum e.V.
REFRESH-INTERVAL;VALUE=DURATION:PT1H
X-Robots-Tag:noindex
X-PUBLISHED-TTL:PT1H
BEGIN:VTIMEZONE
TZID:Europe/Berlin
BEGIN:DAYLIGHT
TZOFFSETFROM:+0100
TZOFFSETTO:+0200
TZNAME:CEST
DTSTART:20220327T010000
END:DAYLIGHT
BEGIN:STANDARD
TZOFFSETFROM:+0200
TZOFFSETTO:+0100
TZNAME:CET
DTSTART:20221030T010000
END:STANDARD
BEGIN:DAYLIGHT
TZOFFSETFROM:+0100
TZOFFSETTO:+0200
TZNAME:CEST
DTSTART:20230326T010000
END:DAYLIGHT
BEGIN:STANDARD
TZOFFSETFROM:+0200
TZOFFSETTO:+0100
TZNAME:CET
DTSTART:20231029T010000
END:STANDARD
BEGIN:DAYLIGHT
TZOFFSETFROM:+0100
TZOFFSETTO:+0200
TZNAME:CEST
DTSTART:20240331T010000
END:DAYLIGHT
BEGIN:STANDARD
TZOFFSETFROM:+0200
TZOFFSETTO:+0100
TZNAME:CET
DTSTART:20241027T010000
END:STANDARD
END:VTIMEZONE
BEGIN:VEVENT
DTSTART;TZID=Europe/Berlin:20231102T180000
DTEND;TZID=Europe/Berlin:20231102T180000
DTSTAMP:20260424T123240
CREATED:20230207T125225Z
LAST-MODIFIED:20231102T115314Z
UID:5580-1698948000-1698948000@ch-bonn.de
SUMMARY:Traditionelles Gänseessen
DESCRIPTION:„Das Beste von der Gans“ \nGänsebrust und Gänsekeule \nHolunderrotkohl / kleine Kartoffelklöße / gefüllter Schmorapfel \n*** \nRote Grütze mit Vanillesauce \nWir freuen uns auf einen geselligen Abend mit zahlreichen Gästen.
URL:https://ch-bonn.de/event/traditionelles-gaenseessen-2/
LOCATION:Godesburg – Rittersaal – Auf dem Godesberg 5\, 53177 Bonn
CATEGORIES:Gänseessen
END:VEVENT
BEGIN:VEVENT
DTSTART;TZID=Europe/Berlin:20231106T190000
DTEND;TZID=Europe/Berlin:20231106T190000
DTSTAMP:20260424T123240
CREATED:20230912T062052Z
LAST-MODIFIED:20231109T115619Z
UID:5947-1699297200-1699297200@ch-bonn.de
SUMMARY:Vortrag von Professor Dr. Michael Bohnet\, Ministerialdirektor i.R.: „Deutsche zivile und entwicklungspolitische  Unterstützung für die Ukraine“
DESCRIPTION:Die militärische Unterstützung der Ukraine ist in aller Munde. Die zivile und entwicklungspolitische Unterstützung der Ukraine ist dagegen in der Öffentlichkeit ein weißer Fleck. \nDarüber wird unser langjähriges Mitglied\, Prof. Dr. Michael Bohnet\, ehemals Ministerialdirektor im BMZ sprechen. Er wird berichten über \n\ndie Unterstützung der Ukraine insgesamt durch Deutschland und andere Länder\ndas Spendenaufkommen der Deutschen für die Ukraine\ndie entwicklungspolitische Unterstützung der Ukraine durch das BMZ\n\n(Bundesministerium für wirtschaftliche Zusammenarbeit und Entwicklung ) \n\nKommunale Partnerschaften zwischen Deutschland und der Ukraine\ndie Unterstützung der Ukraine durch andere Ressorts\nHilfe für Geflüchtete\n\nProfessor Dr. habil. Michael Bohnet ist Professor für Volkswirtschaftslehre und Ministerialdirektor i. R. Er war sowohl Leiter der multilateralen als auch der bilateralen Abteilung und in dieser Funktion auch stellvertretender Staatssekretär im Bundesministerium für wirtschaftliche Zusammenarbeit und Entwicklung (BMZ). Er war ferner Sonderbeauftragter des BMZ für Afghanistan und Beauftragter des BMZ für die neuen EU- Länder.
URL:https://ch-bonn.de/event/vortrag-von-prof-dr-michael-bohnet-zivile-und-entwicklungspolitische-unterstuetzung-fuer-die-ukraine/
LOCATION:Trinkpavillon/Kurfürstenquelle Bad Godesberg\, Koblenzer Str. 80\, Bonn\, 53177
CATEGORIES:Vortrag
END:VEVENT
BEGIN:VEVENT
DTSTART;VALUE=DATE:20231109
DTEND;VALUE=DATE:20231110
DTSTAMP:20260424T123240
CREATED:20230926T063224Z
LAST-MODIFIED:20231109T115743Z
UID:5986-1699488000-1699574399@ch-bonn.de
SUMMARY:CHD - Besuch der Ausstellung: "Pablo Picasso / Max Beckmann / Mensch – Mythos – Welt"  im  Von der Heydt-Museum in Wuppertal
DESCRIPTION:Diese Ausstellung gehört zu den fünfzig Veranstaltungen weltweit\, die Pablo Picasso zum 50. Todestag gewidmet sind. Erstmalig werden hier zwei bedeutende Künstler des 20 Jahrhunderts gemeinsam präsentiert – beide auf der Suche nach neuen Wegen und Möglichkeiten des künstlerischen Ausdrucks. Der Mensch steht bei ihnen im Mittelpunkt der Darstellung\, der Mensch im Alltäglichen und unter dem Einfluss von Krisen\, politischen Umbrüchen\, Krieg und Vertreibung. \nPablo Picasso und Max Beckmann wussten voneinander\, haben sich aber nie getroffen. Dennoch sind Ähnlichkeiten in ihren Werken zu finden\, die in der Ausstellung aufgenommen und gegenüber gestellt werden. \nWir fahren mit dem Zug. \nNach der Ankunft im Museum ist ausreichend Zeit sich im Museumsbistro zu erfrischen oder sich andere Exponate anzuschauen. \nDie Führung ist um 14.00 Uhr gebucht. \nHerren und Gäste sind sehr willkommen. Über eine rege Teilnahme freut sich das CHD-Team. \nMit freundlichen Grüßen \nDr. Julia Boullay
URL:https://ch-bonn.de/event/chd-besuch-der-ausstellung-pablo-picasso-und-max-beekmann-im-von-der-heydt-museum-in-wuppertal/
CATEGORIES:(CHD) Tagestour
END:VEVENT
BEGIN:VEVENT
DTSTART;TZID=Europe/Berlin:20231119T170000
DTEND;TZID=Europe/Berlin:20231119T170000
DTSTAMP:20260424T123240
CREATED:20231102T120255Z
LAST-MODIFIED:20231102T120255Z
UID:6087-1700413200-1700413200@ch-bonn.de
SUMMARY:Verleihung des 9. Internationalen Beethovenpreises für Gidon Kremer
DESCRIPTION:„Ein Mensch\, der sich einsetzt“ \nAlles\, was man schenkt\, bleibt – alles\, was man für sich behält\, stirbt!“ – \nGidon Kremer in Deutschlandfunk Kultur am 24. Mai 2021 \nTickets sind NICHT über Colloquium Humanum e.V. erhältlich\, sondern NUR bei allen bekannten Vorverkaufsstellen von Bonnticket (0228 50 20 10) oder www.bonnticket.de \nTickets: 28\,00 € (ermäßigt 18\,00 €) zzgl. Gebühr \nFür sein nachhaltiges Eintreten für Menschenrechte\, Frieden\, Freiheit\, Armutsbekämpfung und Diversität erhält Gidon Kremer den 9. Beethovenpreis 2023. \nDer von Torsten Schreiber und Andreas Loesch initiierte Internationale Beethovenpreis für Menschenrechte\, Frieden\, Freiheit\, Armutsbekämpfung und Diversität wird zum neunten Mal vergeben. Der Preis ist mit 10.000 Euro dotiert. Er wird wieder von der bundesweit tätigen Wirtschaftsprüfungs- und Steuerberatungsgesellschaft Solidaris gesponsert. Die Preistrophäe „Evolute“ in Alabaster gestaltet ein weiteres Mal der Künstler Dirk Wilhelm. \nIn einem Festkonzert treten neben dem Preisträger viele weitere Künstlerinnen und Künstler auf\, darunter der Cellist Mischa Maisky\, Klaus von Wrochem – bekannt als der Protestsänger Klaus der Geiger\, Jazzpianist Marcus Schinkel mit dem Sänger Johannes Kuchta\, die Komponistin/Sängerin Cymin Samawatie und SchülerInnen des Tannenbusch-Gymnasium. Die Laudatio hält der Musikwissenschaftler und Journalist Wolfgang Sandner\, die Moderation übernimmt Anastassia Boutsko (Deutsche Welle). \nDer Internationale Beethovenpreis für Menschenrechte\, Frieden\, Freiheit\, Armutsbekämpfung und Diversität wird getragen von der Beethoven Academy. Er wurde ins Leben gerufen vom Intendanten der Beethoven Academy Torsten Schreiber\, sowie vom langjährigen Präsidenten/Vorsitzenden von Kulturgesellschaften in Bonn und Bayreuth\, Andreas Loesch\, der ebenfalls Gesellschafter der Academy ist. Weitere Gesellschafterin der Beethoven Academy ist die Pianistin Martha Argerich.  \nWeitere Unterstützer und Kooperationspartner sind zahlreiche Kulturgesellschaften aus der Region Bonn: u.a. Colloquium Humanum Bonn e.V.\, Johannes-Wasmuth-Gesellschaft e.V.\, Kulturring Bad Honnef e.V.\, Richard-Wagner-Verband Bonn/Siegburg e.V.\, ArtDialog e.V. \nDer Erlös des Abends wird für die Projekte der Beethoven Academy verwendet. \nWeitere Informationen finden Sie auch unter www.beethovenacademy.org
URL:https://ch-bonn.de/event/verleihung-des-9-internationalen-beethovenpreises-fuer-gidon-kremer/
LOCATION:Aula des Tannenbusch-Gymnasium Tannenbusch\, Hirschberger Str. 3\, Bonn\, 53119
END:VEVENT
BEGIN:VEVENT
DTSTART;TZID=Europe/Berlin:20231124T190000
DTEND;TZID=Europe/Berlin:20231124T190000
DTSTAMP:20260424T123240
CREATED:20230810T054622Z
LAST-MODIFIED:20231207T114133Z
UID:5918-1700852400-1700852400@ch-bonn.de
SUMMARY:Käse- und Weinabend
DESCRIPTION:Die bewährten Organisatorinnen begrüßen Sie zu köstlichem Käse und hervorragenden Weinen. Freuen Sie sich auf einen schönen Abend in entspannter Atmosphäre. \nGäste sind selbstverständlich willkommen! \nKostenbeitrag: 15\,00 € für Mitglieder – 18\,00 € für Gäste – Keine Zahlung vor Ort möglich! \nTeilnahme:         Die Teilnahme ist limitiert auf 40 Personen\, bitte melden Sie sich zeitnah an.
URL:https://ch-bonn.de/event/kaese-und-weinabend-22/
LOCATION:Offene Tür Dürenstraße e.V.\, Dürenstraße 2\, 53173 Bonn
CATEGORIES:Käse- und Weinabend
END:VEVENT
END:VCALENDAR