BEGIN:VCALENDAR
VERSION:2.0
PRODID:-//Colloquium Humanum e.V. - ECPv6.15.20//NONSGML v1.0//EN
CALSCALE:GREGORIAN
METHOD:PUBLISH
X-WR-CALNAME:Colloquium Humanum e.V.
X-ORIGINAL-URL:https://ch-bonn.de
X-WR-CALDESC:Veranstaltungen für Colloquium Humanum e.V.
REFRESH-INTERVAL;VALUE=DURATION:PT1H
X-Robots-Tag:noindex
X-PUBLISHED-TTL:PT1H
BEGIN:VTIMEZONE
TZID:Europe/Berlin
BEGIN:DAYLIGHT
TZOFFSETFROM:+0100
TZOFFSETTO:+0200
TZNAME:CEST
DTSTART:20220327T010000
END:DAYLIGHT
BEGIN:STANDARD
TZOFFSETFROM:+0200
TZOFFSETTO:+0100
TZNAME:CET
DTSTART:20221030T010000
END:STANDARD
BEGIN:DAYLIGHT
TZOFFSETFROM:+0100
TZOFFSETTO:+0200
TZNAME:CEST
DTSTART:20230326T010000
END:DAYLIGHT
BEGIN:STANDARD
TZOFFSETFROM:+0200
TZOFFSETTO:+0100
TZNAME:CET
DTSTART:20231029T010000
END:STANDARD
BEGIN:DAYLIGHT
TZOFFSETFROM:+0100
TZOFFSETTO:+0200
TZNAME:CEST
DTSTART:20240331T010000
END:DAYLIGHT
BEGIN:STANDARD
TZOFFSETFROM:+0200
TZOFFSETTO:+0100
TZNAME:CET
DTSTART:20241027T010000
END:STANDARD
END:VTIMEZONE
BEGIN:VEVENT
DTSTART;TZID=Europe/Berlin:20231011T143000
DTEND;TZID=Europe/Berlin:20231011T163000
DTSTAMP:20260422T110100
CREATED:20230418T083716Z
LAST-MODIFIED:20231012T070908Z
UID:5740-1697034600-1697041800@ch-bonn.de
SUMMARY:Besuch bei der Stiftung Bundeskanzler-Adenauer-Haus in Bad Honnef-Rhöndorf
DESCRIPTION:Die Stiftung Bundeskanzler-Adenauer-Haus ist eine Bundesstiftung\, die seit 1978 eine Gedenkstätte für den ersten deutschen Bundeskanzler Konrad Adenauer unterhält. Untergebracht ist sie im und um das frühere Wohnhaus des 1967 verstorbenen Bundeskanzlers in Rhöndorf\, einem Stadtteil von Bad Honnef bei Bonn. Sie ist die älteste der heute sieben Politikergedenkstiftungen in Deutschland und eine der meist besuchten Sehenswürdigkeiten im Siebengebirgsraum. Die Dauerausstellung wurde 2017 neu eröffnet. \nDie teilnehmenden Mitglieder des CH können am 11. Oktober die Ausstellung\, den Garten und das Wohnhaus besichtigen.
URL:https://ch-bonn.de/event/besuch-bei-der-stiftung-bundeskanzler-adenauer-haus-in-bad-honnef-rhoendorf-besichtigung-vortrag-diskussion/
CATEGORIES:Führung
END:VEVENT
BEGIN:VEVENT
DTSTART;VALUE=DATE:20231019
DTEND;VALUE=DATE:20231020
DTSTAMP:20260422T110100
CREATED:20230622T095648Z
LAST-MODIFIED:20231026T082641Z
UID:5867-1697673600-1697759999@ch-bonn.de
SUMMARY:CHD-Tagestour nach Frankfurt/Main - Besuch der EZB
DESCRIPTION:Das CHD-Team lädt ein zu einer Tagesfahrt nach Frankfurt am Main unter dem Motto: „EZB in Mainhatten trifft Altstadt“. \nAls „Mutter des Euros“ feiert in diesem Jahr die Europäische Zentralbank (EZB) ihr 25. Jubiläum und am 19. Oktober 2023 öffnet sie ihre Tore für uns. Bei einer fachkundigen Führung erhalten wir wichtige Einblicke in diese Weltinstitution\, die mit Argusaugen über Preisstabilität im Euroraum und Sicherheit unseres Euros wacht\, besonders in weniger guten Zeiten. \nNach einer Mittagspause in der stimmungsvollen Altstadt zeigt uns ein Stadtführer – ganz komfortabel an Bord unseres Busses – die Sehenswürdigkeiten der historienreichen Kaiserkrönungsstadt Frankfurt am Main. Danach ist noch Zeit zum gemütlichen Kaffeetrinken. \nHerren und Gäste sind wie immer willkommen. Das CHD-Team freut sich schon\, mit vielen von Ihnen nach Frankfurt zu fahren! \nBis bald und beste Grüße! \nIhre Marie-Louise Schmidt-Soupart und Monique Mühlens
URL:https://ch-bonn.de/event/chd-tagestour-nach-frankfurt-main-besuch-der-ezb/
CATEGORIES:(CHD) Tagestour
END:VEVENT
BEGIN:VEVENT
DTSTART;TZID=Europe/Berlin:20231023T190000
DTEND;TZID=Europe/Berlin:20231023T190000
DTSTAMP:20260422T110100
CREATED:20230720T082416Z
LAST-MODIFIED:20231026T082727Z
UID:5879-1698087600-1698087600@ch-bonn.de
SUMMARY:Internationale Begegnung: Ukraine - mit Generalkonsulin Iryna Shum
DESCRIPTION:Am 7. September 2022 referierte Frau Generalkonsulin Iryna Shum über die Geschichte\, Politik und Kultur der Ukraine. \nEin Jahr danach\, am 23. Oktober 2023\, berichtet Frau Shum über die aktuelle Situation im Kriegsgebiet in Osteuropa und die Perspektiven für die Region. Der Titel ihres Vortrags lautet: „Ukraine – Status Quo und Ausblick“. \nDie Veranstaltung wird mit traditioneller Musik aus Osteuropa umrahmt. Im Anschluss lädt das CH zu einem kleinen Empfang ein. \nDas CH dankt der Bücherei der Erlöser-Kirchengemeinde\, Frau Rosemarie Kimmerle\, für die gute Zusammenarbeit.
URL:https://ch-bonn.de/event/internationale-begegnung-irland/
LOCATION:Historischer Gemeindesaal der Erlöser-Kirchengemeinde\, Kronprinzenstr. 31\, 53173 Bonn
CATEGORIES:Internationale Begegnung
END:VEVENT
END:VCALENDAR