BEGIN:VCALENDAR
VERSION:2.0
PRODID:-//Colloquium Humanum e.V. - ECPv6.15.20//NONSGML v1.0//EN
CALSCALE:GREGORIAN
METHOD:PUBLISH
X-ORIGINAL-URL:https://ch-bonn.de
X-WR-CALDESC:Veranstaltungen für Colloquium Humanum e.V.
REFRESH-INTERVAL;VALUE=DURATION:PT1H
X-Robots-Tag:noindex
X-PUBLISHED-TTL:PT1H
BEGIN:VTIMEZONE
TZID:Europe/Berlin
BEGIN:DAYLIGHT
TZOFFSETFROM:+0100
TZOFFSETTO:+0200
TZNAME:CEST
DTSTART:20220327T010000
END:DAYLIGHT
BEGIN:STANDARD
TZOFFSETFROM:+0200
TZOFFSETTO:+0100
TZNAME:CET
DTSTART:20221030T010000
END:STANDARD
BEGIN:DAYLIGHT
TZOFFSETFROM:+0100
TZOFFSETTO:+0200
TZNAME:CEST
DTSTART:20230326T010000
END:DAYLIGHT
BEGIN:STANDARD
TZOFFSETFROM:+0200
TZOFFSETTO:+0100
TZNAME:CET
DTSTART:20231029T010000
END:STANDARD
BEGIN:DAYLIGHT
TZOFFSETFROM:+0100
TZOFFSETTO:+0200
TZNAME:CEST
DTSTART:20240331T010000
END:DAYLIGHT
BEGIN:STANDARD
TZOFFSETFROM:+0200
TZOFFSETTO:+0100
TZNAME:CET
DTSTART:20241027T010000
END:STANDARD
END:VTIMEZONE
BEGIN:VEVENT
DTSTART;VALUE=DATE:20230904
DTEND;VALUE=DATE:20230905
DTSTAMP:20260420T193819
CREATED:20230504T065147Z
LAST-MODIFIED:20230914T101237Z
UID:5804-1693785600-1693871999@ch-bonn.de
SUMMARY:CHD - Tagestour zur Bundesgartenschau in Mannheim
DESCRIPTION:Die Bundesgartenschau setzt sich aus dem Spinelli-Park\, einem ehemaligen Militärgelände\, und dem Luisenpark zusammen\, die mit einer Seilbahn verbunden sind. Die Fahrt mit der Seilbahn ist im Eintrittspreis enthalten. \nHerren und Gäste sind wie immer willkommen. Über eine gesellige Busfahrt und eine rege Teilnahme freut sich das CHD-Team.
URL:https://ch-bonn.de/event/chd-tagestour-zur-bundesgartenschau-in-mannheim/
CATEGORIES:(CHD) Tagestour
END:VEVENT
BEGIN:VEVENT
DTSTART;TZID=Europe/Berlin:20230908T190000
DTEND;TZID=Europe/Berlin:20230908T190000
DTSTAMP:20260420T193819
CREATED:20230725T080928Z
LAST-MODIFIED:20230914T101218Z
UID:5914-1694199600-1694199600@ch-bonn.de
SUMMARY:Käse- und Weinabend
DESCRIPTION:Die bewährten Organisatorinnen begrüßen Sie zu köstlichem Käse und hervorragenden Weinen. Freuen Sie sich auf einen schönen Abend in entspannter Atmosphäre. \nGäste sind selbstverständlich willkommen!
URL:https://ch-bonn.de/event/kaese-und-weinabend-21/
LOCATION:Offene Tür Dürenstraße e.V.\, Dürenstraße 2\, 53173 Bonn
CATEGORIES:Käse- und Weinabend
END:VEVENT
BEGIN:VEVENT
DTSTART;TZID=Europe/Berlin:20230912T160000
DTEND;TZID=Europe/Berlin:20230912T173000
DTSTAMP:20260420T193819
CREATED:20230511T053533Z
LAST-MODIFIED:20230914T101150Z
UID:5812-1694534400-1694539800@ch-bonn.de
SUMMARY:Besuch bei der Deutschen Gesellschaft für Internationale Zusammenarbeit (GIZ)
DESCRIPTION:Dr. Senn\, Leiter der Abteilung Liegenschaften\, wird einen Einführungsvortrag über die GIZ und ganz besonders über die Aufgaben am Standort Bonn halten und dann durch den Gebäudekomplex führen. \nDie GIZ ist die zentrale Durchführungsorganisation der staatlichen Entwicklungszusammenarbeit. Sie ist in 120 Ländern tätig und verfügt über ein Jahresbudget von ca. 4 Milliarden €\, hauptsächlich aus dem Bundesministerium für wirtschaftliche Zusammenarbeit. Ungefähr 25.000 Mitarbeiter\, hauptsächlich einheimische Fachkräfte\, sind in 1700 Vorhaben tätig. \nNeben dem Sitz in Eschborn (bei Frankfurt) ist in den letzten Jahren der Sitz in Bonn entstanden. Die Bedeutung des Standortes Bonn liegt vor allem in der Zusammenarbeit mit den UN-Organisationen. Die GIZ und die Organisationen der UN sind das Herzstück der internationalen Stadt Bonn. \nDie Möglichkeit eines Informationsbesuches bei einem globalen Player dieser Größenordnung ist selten. Bitte kommen Sie zahlreich!! \nDie Veranstaltung findet in Kooperation mit der ABK statt.
URL:https://ch-bonn.de/event/besuch-bei-der-deutschen-gesellschaft-fuer-internationale-zusammenarbeit-giz/
CATEGORIES:Führung
END:VEVENT
BEGIN:VEVENT
DTSTART;TZID=Europe/Berlin:20230928T160000
DTEND;TZID=Europe/Berlin:20230928T160000
DTSTAMP:20260420T193819
CREATED:20230418T083945Z
LAST-MODIFIED:20231012T070841Z
UID:5744-1695916800-1695916800@ch-bonn.de
SUMMARY:Besuch des Klimasekretariats UN Bonn
DESCRIPTION:Das Klimasekretariat ist das Herzstück der UN-Familie in Bonn. \n1992 verabschiedeten 198 Vertragsstaaten das Rahmenübereinkommen der Vereinten Nationen über Klimaänderungen. Das Sekretariat dieser Klimarahmenkonvention ist seit 1996 in Bonn. \nDie zentrale Aufgabe dieses Sekretariates ist es\, dafür zu sorgen\, dass im globalen Dialog über die gleichen Fakten und Daten geredet wird und gemeinsame Schlüsse gezogen werden\, die nachprüfbar sind. Dazu besteht Berichtspflicht der Vertragsstaaten und Analyse der Daten. Ein wesentliches Instrument sind die regelmäßigen Klimakonferenzen. \nNach dem Vortrag des Klimasekretariates und dem Informationsaustausch haben Sie Gelegenheit\, vom obersten Stockwerk aus einen Überblick über den UN-Campus zu erhalten. \nDie Veranstaltung findet in Kooperation mit der ABK statt.
URL:https://ch-bonn.de/event/besuch-des-klimasekretariats-un-bonn/
CATEGORIES:Führung
END:VEVENT
END:VCALENDAR