BEGIN:VCALENDAR
VERSION:2.0
PRODID:-//Colloquium Humanum e.V. - ECPv6.15.20//NONSGML v1.0//EN
CALSCALE:GREGORIAN
METHOD:PUBLISH
X-ORIGINAL-URL:https://ch-bonn.de
X-WR-CALDESC:Veranstaltungen für Colloquium Humanum e.V.
REFRESH-INTERVAL;VALUE=DURATION:PT1H
X-Robots-Tag:noindex
X-PUBLISHED-TTL:PT1H
BEGIN:VTIMEZONE
TZID:Europe/Berlin
BEGIN:DAYLIGHT
TZOFFSETFROM:+0100
TZOFFSETTO:+0200
TZNAME:CEST
DTSTART:20210328T010000
END:DAYLIGHT
BEGIN:STANDARD
TZOFFSETFROM:+0200
TZOFFSETTO:+0100
TZNAME:CET
DTSTART:20211031T010000
END:STANDARD
BEGIN:DAYLIGHT
TZOFFSETFROM:+0100
TZOFFSETTO:+0200
TZNAME:CEST
DTSTART:20220327T010000
END:DAYLIGHT
BEGIN:STANDARD
TZOFFSETFROM:+0200
TZOFFSETTO:+0100
TZNAME:CET
DTSTART:20221030T010000
END:STANDARD
BEGIN:DAYLIGHT
TZOFFSETFROM:+0100
TZOFFSETTO:+0200
TZNAME:CEST
DTSTART:20230326T010000
END:DAYLIGHT
BEGIN:STANDARD
TZOFFSETFROM:+0200
TZOFFSETTO:+0100
TZNAME:CET
DTSTART:20231029T010000
END:STANDARD
END:VTIMEZONE
BEGIN:VEVENT
DTSTART;TZID=Europe/Berlin:20220603T190000
DTEND;TZID=Europe/Berlin:20220603T190000
DTSTAMP:20260425T140110
CREATED:20220513T091941Z
LAST-MODIFIED:20220607T091403Z
UID:4935-1654282800-1654282800@ch-bonn.de
SUMMARY:"Länderabend Island"
DESCRIPTION:Island ist eine Insel im Nordatlantik\, die geografisch zwischen Europa und Amerika liegt. Island ist ein Land mit atemberaubenden Naturschönheiten\, riesigen Gletschern und faszinierenden Küsten. Island hat in Thingvellir den Ort des ältesten Parlaments der Welt\, im Jahr 1000 nahm die Insel der Wikinger das Christentum an. Das Land ist seit 1944 vollständig von Dänemark unabhängig und eine parlamentarische Demokratie. Trotz der räumlich entfernten Lage hat Island immer kulturellen Kontakt zu Europa gehabt. Viele Sagen und Mythen\, die wir in Deutschland kennen\, haben ihren Ursprung in Island. \nDer heutige Länderabend versucht einen Einblick in dieses interessante Land zu vermitteln. In einem Impulsvortrag stellt die Honorarkonsulin von Island\, Frau Bettina Adenauer-Bieberstein\, wichtige Stationen aus Geschichte\, Politik und Kultur Islands vor. Darauf folgt eine Diskussion. \nIm Anschluss wird der renommierte isländische Bariton\, Sigurður Bragason\, am Flügel begleitet von Hjálmur Sighvatsson\, musikalisch die Verbindungen Islands zur europäischen Kultur aufzeigen. Das Konzert hat den Titel: „Wagner\, Nietzsche\, Liszt und die Gesänge aus den Isländischen Sagas“. Die Künstler stellen dieses Konzertprogramm auch während der diesjährigen Bayreuther Festspiele am 23. August in der „Villa Wahnfried“ vor. \nEin kleiner Empfang beschließt den Abend. \nDas CH dankt der Bücherei der Erlöser-Kirchengemeinde\, Frau Rosemarie Kimmerle\, für die gute Zusammenarbeit. \nDie Veranstaltung ist eine Kooperation des Colloquium Humanum mit dem Richard-Wagner-Verband Bonn\, der Johannes-Wasmuth-Gesellschaft und der Arbeitsgemeinschaft für Bildung und Kultur Bonn und Umgebung (ABK).
URL:https://ch-bonn.de/event/laenderabend-island-2/
LOCATION:Historischer Gemeindesaal der Erlöser-Kirchengemeinde\, Kronprinzenstr. 31\, 53173 Bonn
CATEGORIES:Länderabend
END:VEVENT
BEGIN:VEVENT
DTSTART;TZID=Europe/Berlin:20220610T180000
DTEND;TZID=Europe/Berlin:20220610T180000
DTSTAMP:20260425T140110
CREATED:20220513T092015Z
LAST-MODIFIED:20220929T110415Z
UID:4937-1654884000-1654884000@ch-bonn.de
SUMMARY:"Käse- und Weinabend"
DESCRIPTION:In den gemütlichen Räumen des Oxford-Clubs plaudern\, köstlichen Käse und hervorragende Weine genießen und einfach einen schönen Abend erleben bei gelöster und entspannter Atmosphäre. \nTreffen Sie sich mit anderen Mitgliedern des Colloquium Humanum und mit Gästen zu Gesprächen\, zum Erfahrungsaustausch. \nNutzen Sie die Gelegenheit\, dem Präsidium Ihre Meinungen zum Vereinsleben\, zum Programm oder zu anderen Aspekten zu übermitteln\, und fühlen Sie sich einfach ein paar Stunden wohl. \nGäste sind selbstverständlich willkommen!
URL:https://ch-bonn.de/event/kaese-und-weinabend-17/
LOCATION:Oxford-Club\, Adenauerallee 7\, 53111 Bonn
CATEGORIES:Käse- und Weinabend
END:VEVENT
BEGIN:VEVENT
DTSTART;VALUE=DATE:20220621
DTEND;VALUE=DATE:20220622
DTSTAMP:20260425T140110
CREATED:20220331T070517Z
LAST-MODIFIED:20220929T110334Z
UID:4882-1655769600-1655855999@ch-bonn.de
SUMMARY:CHD-Fahrt durch die Vulkaneifel
DESCRIPTION:Besichtigung der Glockengießerei in Brockscheid und Führung durch den kurfürstlichen Kurort Bad Bertrich \nDie Glockengießerei in Brockscheid entstand 1840 und konnte von der Familie H. A. Mark 5 Generationen lang erfolgreich betrieben werden. Nun\, heute braucht man keine Glocke mehr. Die Produktion wurde eingestellt und das ganze Gelände verkauft. Dennoch haben wir die Chance – vielleicht die letzte -\, die Entstehung einer Glocke in der originalen\, urigen „Gießhalle“ durch den letzten Eigentümer erklärt zu bekommen. \nNach dem Mittagessen fahren wir durch „Maaren“-Landschaften zum idyllischen Thermalort Bad Bertrich\, wo Clemens Wenzeslaus von Sachsen\, der letzte Kurfürst von Trier\, 1785 ein Schlösschen – heute Standesamt – erbauen ließ. Heutzutage vermarktet Bad Bertrich seine Heilquelle unter der Bezeichnung „Gesundland-Vulkaneifel“. \nKostenbeitrag: \n(für Busfahrt\, Eintritt\, Führung)       35\,00 € Mitglieder – 40\,00 € Gäste \n(Mittagessen und Kaffeetrinken auf eigene Kosten) \nHerren und Gäste sind wie immer willkommen. \nMit freundlichen Grüßen \nMonique Mühlens \nMarie-Louise Schmidt-Soupart \nColloquium Humanum e.V. tritt im juristischen Sinn nicht als Reiseveranstalter auf und schließt damit jede Haftung aus. Die Teilnahme an der Fahrt findet auf eigenes Risiko statt.
URL:https://ch-bonn.de/event/chd-glockengiessertour/
CATEGORIES:(CHD) Tagestour
END:VEVENT
BEGIN:VEVENT
DTSTART;VALUE=DATE:20220624
DTEND;VALUE=DATE:20220627
DTSTAMP:20260425T140110
CREATED:20220331T142744Z
LAST-MODIFIED:20220929T110302Z
UID:4894-1656028800-1656287999@ch-bonn.de
SUMMARY:17. Rolandseck-Festival  „Pro Constantia“ mit dem Pianisten Daniel Barenboim
DESCRIPTION:Ausdauer\, Stetigkeit und Beständigkeit – das sind nur einige Bedeutungen\, die der Begriff Constantia beinhaltet. Man könnte auch an Resilienz denken\, ein Begriff der in Pandemiezeiten allzu gerne beansprucht wird. Er beschreibt die Fähigkeiten\, an Widerständen nicht zu zerbrechen. \nDonnerstag\, 23. Juni 2022\, 20 Uhr\n  Erstes Abonnementkonzert \nFreitag\, den 24. Juni 2022\, 20 Uhr\nGala-Sonderkonzert \nSamstag\, den 25. Juni 2022\, 20 Uhr\nZweites Abonnementkonzert \nSonntag\, 26. Juni 2022\, 11 Uhr\nDrittes Abonnementkonzert \n  \nMitwirkende \nMihaela Martin (künstlerische Leitung)\, \nKolja Blacher\, Michael Barenboim\, Conrad Muck\, Stephen Waarts\, \nSarah Jegou-Sageman – Violine \nNobuko Imai\, Blythe Teh Engstroem\, \nMichael Barenboim\, Razvan Popovici – Viola \nFrans Helmerson\, Andrei Ionita\, \nAnastasia Kobekina – Violoncello \nStanislau Anishchanka – Kontrabass \nSchagajegh Nosrati\, Daniel Barenboim\, \nElena Bashkirova\, Nelson Görner\, \nDiana Ketler – Klavier \nDorothea Röschmann – Sopran \nThorsten Johanns – Klarinette \nPřemysl Vojta – Horn \n  \nPartner und Unterstützer des Festivals: \nVictor Rolff-Stiftung\, Stadt Bad Honnef\, Deutschlandfunk Kultur\, Forte-Club\, Michael und Silvia Schulz Stiftung\, Piano Rumle
URL:https://ch-bonn.de/event/7-rolandseck-festival-pro-constantia-mit-dem-pianisten-daniel-barenboim/
LOCATION:Kursaal Bad Honnef\,  Hauptstr. 28\,  53604 Bad Honnef
CATEGORIES:Konzert
END:VEVENT
BEGIN:VEVENT
DTSTART;TZID=Europe/Berlin:20220630T170000
DTEND;TZID=Europe/Berlin:20220630T190000
DTSTAMP:20260425T140110
CREATED:20220628T071237Z
LAST-MODIFIED:20220929T110124Z
UID:5086-1656608400-1656615600@ch-bonn.de
SUMMARY:Podiumsdiskussion: Was nun\, Monsieur Macron? Frankreich nach der Parlamentswahl
DESCRIPTION:Gerade erst für eine zweite Amtszeit wiedergewählt\, hat Frankreichs Präsident Emmanuel Macron von den Wählerinnen und Wähler jetzt einen Korb erhalten; sie haben ihm eine eigene Mehrheit im Parlament verweigert. Obwohl die Parteienkoalition „Ensemble“\, die ihn unterstützt\, zur stärksten politischen Kraft in der Assemblée Nationale wurde\, fehlen ihr 44 Stimmen zur absoluten Mehrheit. Schon wird vor einer „Unregierbarkeit“ Frankreichs gewarnt und im Lager der „Macronisten“ über Neuwahlen in einem Jahr diskutiert. Über die vertrackte politische Situation bei unserem westlichen Nachbarn wollen wir diskutieren mit \nProfessor Dr. Ulrike Guérot\, Universität Bonn/CERC und Professor em. Jérôme Vaillant\, ehem. Universität Lille. \nDie Diskussion wird moderiert von Andreas Noll\, Reporter des Deutschlandfunks und Autor des Podcast „FrankoViel“.  \nEintritt frei \nIn Kooperation mit der Deutsch-Französischen Ges. Bonn und Rhein-Sieg e.V.\, dem Institut Francais Bonn\, dem Centre Ernst Robert Curtius (CERC)\, dem Gustav-Stresemann-Institut (GSI)
URL:https://ch-bonn.de/event/podiumsdiskussion-was-nun-monsieur-macron-frankreich-nach-der-parlamentswahl/
LOCATION:Institut Français Bonn\, Adenauerallee 35\, 53113 Bonn
CATEGORIES:Podiumsgespräch
END:VEVENT
END:VCALENDAR