BEGIN:VCALENDAR
VERSION:2.0
PRODID:-//Colloquium Humanum e.V. - ECPv6.15.20//NONSGML v1.0//EN
CALSCALE:GREGORIAN
METHOD:PUBLISH
X-ORIGINAL-URL:https://ch-bonn.de
X-WR-CALDESC:Veranstaltungen für Colloquium Humanum e.V.
REFRESH-INTERVAL;VALUE=DURATION:PT1H
X-Robots-Tag:noindex
X-PUBLISHED-TTL:PT1H
BEGIN:VTIMEZONE
TZID:Europe/Berlin
BEGIN:DAYLIGHT
TZOFFSETFROM:+0100
TZOFFSETTO:+0200
TZNAME:CEST
DTSTART:20240331T010000
END:DAYLIGHT
BEGIN:STANDARD
TZOFFSETFROM:+0200
TZOFFSETTO:+0100
TZNAME:CET
DTSTART:20241027T010000
END:STANDARD
BEGIN:DAYLIGHT
TZOFFSETFROM:+0100
TZOFFSETTO:+0200
TZNAME:CEST
DTSTART:20250330T010000
END:DAYLIGHT
BEGIN:STANDARD
TZOFFSETFROM:+0200
TZOFFSETTO:+0100
TZNAME:CET
DTSTART:20251026T010000
END:STANDARD
BEGIN:DAYLIGHT
TZOFFSETFROM:+0100
TZOFFSETTO:+0200
TZNAME:CEST
DTSTART:20260329T010000
END:DAYLIGHT
BEGIN:STANDARD
TZOFFSETFROM:+0200
TZOFFSETTO:+0100
TZNAME:CET
DTSTART:20261025T010000
END:STANDARD
END:VTIMEZONE
BEGIN:VEVENT
DTSTART;TZID=Europe/Berlin:20250515T190000
DTEND;TZID=Europe/Berlin:20250515T190000
DTSTAMP:20260425T135730
CREATED:20241114T105315Z
LAST-MODIFIED:20250522T102226Z
UID:7087-1747335600-1747335600@ch-bonn.de
SUMMARY:Vortrag von Marcus Spangenberg M.A.: „Kunst der Inszenierung: Die exklusiven Theaterwelten Ludwigs II.“
DESCRIPTION:Zwischen 1872 und 1885 fanden in München über 200 Schauspiel-\, Opern- und Ballettvorstellungen im Residenz- und Nationaltheater ganz exklusiv für König Ludwig II. statt. Die sogenannten Separatvorstellungen formen bis heute ganz wesentlich das Bild des Monarchen als „Märchenkönig“. Letztendlich beförderten sie jedoch seine hohe Verschuldung und damit Absetzung. \nZum 160. Jahrestag der Uraufführung von „Tristan und Isolde“ und anlässlich des 180. Geburtstages Ludwigs II. bringt uns der Ludwig-II.-Biograf und gebürtige Bad Godesberger Marcus Spangenberg einen weiteren spannenden Aspekt des Wagner-Unterstützers zu uns ins Rheinland. \nDie Veranstaltung findet in Kooperation mit dem Richard-Wagner-Verband Bonn e.V. statt.
URL:https://ch-bonn.de/event/vortrag-von-marcus-spangenberg-m-a-kunst-der-inszenierung-die-exklusiven-theaterwelten-ludwigs-von-bayern/
LOCATION:Trinkpavillon/Kurfürstenquelle Bad Godesberg\, Koblenzer Str. 80\, Bonn\, 53177
CATEGORIES:Vortrag
END:VEVENT
END:VCALENDAR