BEGIN:VCALENDAR
VERSION:2.0
PRODID:-//Colloquium Humanum e.V. - ECPv6.15.20//NONSGML v1.0//EN
CALSCALE:GREGORIAN
METHOD:PUBLISH
X-WR-CALNAME:Colloquium Humanum e.V.
X-ORIGINAL-URL:https://ch-bonn.de
X-WR-CALDESC:Veranstaltungen für Colloquium Humanum e.V.
REFRESH-INTERVAL;VALUE=DURATION:PT1H
X-Robots-Tag:noindex
X-PUBLISHED-TTL:PT1H
BEGIN:VTIMEZONE
TZID:Europe/Berlin
BEGIN:DAYLIGHT
TZOFFSETFROM:+0100
TZOFFSETTO:+0200
TZNAME:CEST
DTSTART:20240331T010000
END:DAYLIGHT
BEGIN:STANDARD
TZOFFSETFROM:+0200
TZOFFSETTO:+0100
TZNAME:CET
DTSTART:20241027T010000
END:STANDARD
BEGIN:DAYLIGHT
TZOFFSETFROM:+0100
TZOFFSETTO:+0200
TZNAME:CEST
DTSTART:20250330T010000
END:DAYLIGHT
BEGIN:STANDARD
TZOFFSETFROM:+0200
TZOFFSETTO:+0100
TZNAME:CET
DTSTART:20251026T010000
END:STANDARD
BEGIN:DAYLIGHT
TZOFFSETFROM:+0100
TZOFFSETTO:+0200
TZNAME:CEST
DTSTART:20260329T010000
END:DAYLIGHT
BEGIN:STANDARD
TZOFFSETFROM:+0200
TZOFFSETTO:+0100
TZNAME:CET
DTSTART:20261025T010000
END:STANDARD
END:VTIMEZONE
BEGIN:VEVENT
DTSTART;TZID=Europe/Berlin:20250409T190000
DTEND;TZID=Europe/Berlin:20250409T190000
DTSTAMP:20260423T125113
CREATED:20241017T094419Z
LAST-MODIFIED:20250513T081955Z
UID:7006-1744225200-1744225200@ch-bonn.de
SUMMARY:Internationale Begegnung Äthiopien - Vortrag von Prinz Dr. Asfa-Wossen Asserate: Kaiser Haile Selassie und seine Zeit – Äthiopien heute“
DESCRIPTION:Seine kaiserliche Hoheit\, Prinz Dr. Asfa-Wossen Asserate\, ist der Großneffe des letzten äthiopischen Kaisers. \nDer Referent spricht über Äthiopien unter der Regierung Kaiser Haile Selassies. Er schlägt einen Bogen bis hin zur heutigen politischen\, gesellschaftlichen und kulturellen Situation in seinem Heimatland. \nDer seit mehr als 40 Jahren in Deutschland lebende äthiopische Prinz Dr. Asserate wurde 1948 in Addis Abeba geboren. Dort besuchte er die Deutsche Schule und schloss diese 1968 als einer der ersten Äthiopier mit dem Abitur ab. Nach der äthiopischen Revolution ging er zum Studium nach Deutschland. In Tübingen und Cambridge studierte er Jura\, Volkswirtschaft und Geschichte. 1978 wurde er in Frankfurt am Main zum Dr. phil. promoviert. Er lebt als Publizist und Unternehmensberater in Deutschland. \nIm Anschluss lädt das CH zu einem kleinen Empfang ein. \nDas CH dankt der Bücherei der Erlöser-Kirchengemeinde\, Frau Rosemarie Kimmerle\, für die gute Zusammenarbeit.
URL:https://ch-bonn.de/event/internationale-begegnung-aethiopien/
LOCATION:Historischer Gemeindesaal der Erlöser-Kirchengemeinde\, Kronprinzenstr. 31\, 53173 Bonn
CATEGORIES:Internationale Begegnung
END:VEVENT
END:VCALENDAR