BEGIN:VCALENDAR
VERSION:2.0
PRODID:-//Colloquium Humanum e.V. - ECPv6.15.20//NONSGML v1.0//EN
CALSCALE:GREGORIAN
METHOD:PUBLISH
X-WR-CALNAME:Colloquium Humanum e.V.
X-ORIGINAL-URL:https://ch-bonn.de
X-WR-CALDESC:Veranstaltungen für Colloquium Humanum e.V.
REFRESH-INTERVAL;VALUE=DURATION:PT1H
X-Robots-Tag:noindex
X-PUBLISHED-TTL:PT1H
BEGIN:VTIMEZONE
TZID:Europe/Berlin
BEGIN:DAYLIGHT
TZOFFSETFROM:+0100
TZOFFSETTO:+0200
TZNAME:CEST
DTSTART:20240331T010000
END:DAYLIGHT
BEGIN:STANDARD
TZOFFSETFROM:+0200
TZOFFSETTO:+0100
TZNAME:CET
DTSTART:20241027T010000
END:STANDARD
BEGIN:DAYLIGHT
TZOFFSETFROM:+0100
TZOFFSETTO:+0200
TZNAME:CEST
DTSTART:20250330T010000
END:DAYLIGHT
BEGIN:STANDARD
TZOFFSETFROM:+0200
TZOFFSETTO:+0100
TZNAME:CET
DTSTART:20251026T010000
END:STANDARD
BEGIN:DAYLIGHT
TZOFFSETFROM:+0100
TZOFFSETTO:+0200
TZNAME:CEST
DTSTART:20260329T010000
END:DAYLIGHT
BEGIN:STANDARD
TZOFFSETFROM:+0200
TZOFFSETTO:+0100
TZNAME:CET
DTSTART:20261025T010000
END:STANDARD
END:VTIMEZONE
BEGIN:VEVENT
DTSTART;TZID=Europe/Berlin:20250312T190000
DTEND;TZID=Europe/Berlin:20250312T190000
DTSTAMP:20260423T104814
CREATED:20241114T110252Z
LAST-MODIFIED:20250318T092958Z
UID:7098-1741806000-1741806000@ch-bonn.de
SUMMARY:Vortrag von Prof. Dr. Dr. Udo Di Fabio\, Richter am Bundesverfassungsgericht a.D.: „Demokratie in der agonalen Konstellation“
DESCRIPTION:Professor Di Fabio ist einer der profiliertesten deutschen Juristen. Er lehrt Öffentliches Recht (Abteilung Staatsrecht) an der Uni Bonn. Von 1999 bis 2011 war er Richter am Bundesverfassungsgericht. Professor Di Fabio äußert sich regelmäßig zu gesellschaftlichen und politischen Themen\, so auch zur „Demokratie in der agonalen (= kämpferischen) Konstellation“. \nDas CH dankt der Bücherei der Erlöser-Kirchengemeinde\, Frau Rosemarie Kimmerle\, für die gute Zusammenarbeit.
URL:https://ch-bonn.de/event/vortrag-von-prof-dr-udo-di-fabio-richter-des-bundesverfassungsgerich-tes-a-d-prof-uni-bonn-institut-fuer-oeffentliches-recht-abt-staatsrecht-titel-noch-nicht-bekannt/
LOCATION:Historischer Gemeindesaal der Erlöser-Kirchengemeinde\, Kronprinzenstr. 31\, 53173 Bonn
CATEGORIES:Vortrag
END:VEVENT
END:VCALENDAR