BEGIN:VCALENDAR
VERSION:2.0
PRODID:-//Colloquium Humanum e.V. - ECPv6.15.20//NONSGML v1.0//EN
CALSCALE:GREGORIAN
METHOD:PUBLISH
X-ORIGINAL-URL:https://ch-bonn.de
X-WR-CALDESC:Veranstaltungen für Colloquium Humanum e.V.
REFRESH-INTERVAL;VALUE=DURATION:PT1H
X-Robots-Tag:noindex
X-PUBLISHED-TTL:PT1H
BEGIN:VTIMEZONE
TZID:Europe/Berlin
BEGIN:DAYLIGHT
TZOFFSETFROM:+0100
TZOFFSETTO:+0200
TZNAME:CEST
DTSTART:20230326T010000
END:DAYLIGHT
BEGIN:STANDARD
TZOFFSETFROM:+0200
TZOFFSETTO:+0100
TZNAME:CET
DTSTART:20231029T010000
END:STANDARD
BEGIN:DAYLIGHT
TZOFFSETFROM:+0100
TZOFFSETTO:+0200
TZNAME:CEST
DTSTART:20240331T010000
END:DAYLIGHT
BEGIN:STANDARD
TZOFFSETFROM:+0200
TZOFFSETTO:+0100
TZNAME:CET
DTSTART:20241027T010000
END:STANDARD
BEGIN:DAYLIGHT
TZOFFSETFROM:+0100
TZOFFSETTO:+0200
TZNAME:CEST
DTSTART:20250330T010000
END:DAYLIGHT
BEGIN:STANDARD
TZOFFSETFROM:+0200
TZOFFSETTO:+0100
TZNAME:CET
DTSTART:20251026T010000
END:STANDARD
END:VTIMEZONE
BEGIN:VEVENT
DTSTART;TZID=Europe/Berlin:20241213T160000
DTEND;TZID=Europe/Berlin:20241213T160000
DTSTAMP:20260421T110021
CREATED:20240521T111553Z
LAST-MODIFIED:20241208T100630Z
UID:6597-1734105600-1734105600@ch-bonn.de
SUMMARY:Weihnachtskonzert mit Sektempfang
DESCRIPTION:DIE VERANSTALTUNG IST LEIDER AUSGEBUCHT! ES SIND KEINE EINTRITTSKARTEN MEHR ZU VERGEBEN! \n2024 laden das Colloquium Humanum und der Richard-Wagner-Verband Bonn zum ersten Mal gemeinsam zu einem Weihnachtskonzert ein. \nDa der Richard-Wagner-Verband Bonn alljährlich hochbegabten jungen Künstlern und Künstlerinnen ein Stipendium für die Bayreuther Festspiele ermöglicht\, liegt es nahe\, dass zwei besonders qualifizierte Stipendiaten der letzten Jahrgänge das Konzert bestreiten: \nder Tenor Valentin Bauer und der Pianist Konstantin Zvyagin. \nDas festliche Programm besteht aus zwei Teilen. Zunächst interpretieren die Künstler Teile des Zyklus „Dichterliebe“ von Robert Schumann mit Texten von Heinrich Heine. Dies ist auch eine Hommage an den Rhein und unser Rheinland. Nach der Pause folgen Musikstücke aus dem „Ring der Nibelungen“ von Richard Wagner\, für das Klavier transkripiert von Konstantin Zvyagin und Weihnachtslieder von Peter Cornelius\, einem bedeutenden Komponisten in der Nachfolge des Bayreuther Meisters. \nKostenbeitrag: \nfür Mitglieder von CH und RWV   20\,00 €   –   für Gäste   25\,00 € \nKeine Zahlung vor Ort möglich! \nAnmeldung: \nNUR im CH-Büro telefonisch unter 02208 76 73 85 oder per Mail an ch-bonn-1960@t-online.de\, ggfs. unter Angabe der Vor- und Nachnamen Ihrer Gäste. \nNachdem Sie sich angemeldet haben\, überweisen Sie bitte den entsprechenden Kostenbeitrag bis spätestens 06.12.2024 (=Zahlungseingang!) auf unser Konto bei der Commerzbank mit der IBAN: DE35 3804 0007 0105 4428 00 \nOhne vorherige Anmeldung und Überweisung ist leider keine Teilnahme möglich! Die Annahme der Anmeldungen erfolgt nach chronologischer Reihenfolge und nur solange Plätze verfügbar sind. Sie werden benachrichtigt\, falls wir Ihre Anmeldung nicht mehr berücksichtigen können. Eine Rückerstattung kann nur bei Ausfall der Veranstaltung oder einer Überbuchung erfolgen.
URL:https://ch-bonn.de/event/weihnachtskonzert-mit-sektempfang-ch-chd/
LOCATION:Historischer Gemeindesaal der Erlöser-Kirchengemeinde\, Kronprinzenstr. 31\, 53173 Bonn
CATEGORIES:Feier
END:VEVENT
END:VCALENDAR