BEGIN:VCALENDAR
VERSION:2.0
PRODID:-//Colloquium Humanum e.V. - ECPv6.15.20//NONSGML v1.0//EN
CALSCALE:GREGORIAN
METHOD:PUBLISH
X-ORIGINAL-URL:https://ch-bonn.de
X-WR-CALDESC:Veranstaltungen für Colloquium Humanum e.V.
REFRESH-INTERVAL;VALUE=DURATION:PT1H
X-Robots-Tag:noindex
X-PUBLISHED-TTL:PT1H
BEGIN:VTIMEZONE
TZID:Europe/Berlin
BEGIN:DAYLIGHT
TZOFFSETFROM:+0100
TZOFFSETTO:+0200
TZNAME:CEST
DTSTART:20230326T010000
END:DAYLIGHT
BEGIN:STANDARD
TZOFFSETFROM:+0200
TZOFFSETTO:+0100
TZNAME:CET
DTSTART:20231029T010000
END:STANDARD
BEGIN:DAYLIGHT
TZOFFSETFROM:+0100
TZOFFSETTO:+0200
TZNAME:CEST
DTSTART:20240331T010000
END:DAYLIGHT
BEGIN:STANDARD
TZOFFSETFROM:+0200
TZOFFSETTO:+0100
TZNAME:CET
DTSTART:20241027T010000
END:STANDARD
BEGIN:DAYLIGHT
TZOFFSETFROM:+0100
TZOFFSETTO:+0200
TZNAME:CEST
DTSTART:20250330T010000
END:DAYLIGHT
BEGIN:STANDARD
TZOFFSETFROM:+0200
TZOFFSETTO:+0100
TZNAME:CET
DTSTART:20251026T010000
END:STANDARD
END:VTIMEZONE
BEGIN:VEVENT
DTSTART;TZID=Europe/Berlin:20241104T160000
DTEND;TZID=Europe/Berlin:20241104T160000
DTSTAMP:20260419T152630
CREATED:20240326T124952Z
LAST-MODIFIED:20241107T135315Z
UID:6429-1730736000-1730736000@ch-bonn.de
SUMMARY:Vortrag von Volker Dreike\, Mitglied des CH: „Ein rotarisches Projekt in Uganda – Kidera - Adopt a Village“
DESCRIPTION:Rotary ist ein globales Netzwerk\, das sich für lokale und weltweite Hilfsprojekte einsetzt. \nZusammen mit Rotary Clubs in Österreich\, Kroatien und Uganda hat mein Club RC Bonn Rheinbogen im Jahre 2022 ein Projekt in Uganda eröffnet\, das insbesondere Frauen und Kindern in einem der ärmsten ländlichen Gegenden in Uganda ein besseres Leben ermöglichen soll. \nSchwerpunkte des Projekts sind die Unterstützung einer Grundschule mit 1400 Schülerinnen und Schülern\, Unterstützung eines Gesundheitszentrums und die Berufsausbildung von Frauen. Das Projekt ist ein sogenanntes Global Grant Projekt mit einer Laufzeit von drei Jahren und einem Finanzvolumen von ca. 200 000 US-Dollar. Falls die erste Phase des Projekts erfolgreich abgeschlossen wird\, besteht die Aussicht\, das Projekt mit einem substantiellem Finanzvolumen fortzusetzen. \nSeit 2022 wurden zusätzliche Lehrer und Lehrerinnen eingestellt\, die Wasser- und Energieversorgung für die Schule sichergestellt\, zusätzliche sanitäre Einrichtungen geschaffen\, eine Schulfarm angelegt\, die die Ernährung der Schülerinnen und Schüler sicherstellt und 24 Dorffrauen wurden als Näherinnen ausgebildet und mit Nähmaschinen und Materialien ausgestattet. \nDas Gesundheitszentrum haben wir mit medizinischen Geräten und Ausstattungen in die Lage versetzt\, Patienten besser versorgen zu können. \nDas Schöne an dem Projekt ist\, dass wir eine Basis schaffen konnten und sich daraus in Schule\, Eltern- Lehrer-Verein\, dem Gesundheitszentrum und der Frauengruppe neue Aktivitäten entwickeln konnten\, die einen großen Mehrwert für die gesamte Dorfgemeinschaft bringen. \nKidera soll als Pilotprojekt dienen um das Konzept eines „smart village“ auch in andere Regionen zu tragen. \nFür Juni 2025 bereitet Volker Dreike eine internationale Begegnung mit dem Sultanat Oman vor\, dem er persönlich seit Jahren verbunden ist.
URL:https://ch-bonn.de/event/vortrag-von-volker-dreike-mitglied-des-ch-ein-rotarisches-projekt-in-uganda-kidera-adopt-a-village/
LOCATION:Trinkpavillon/Kurfürstenquelle Bad Godesberg\, Koblenzer Str. 80\, Bonn\, 53177
CATEGORIES:Vortrag
END:VEVENT
END:VCALENDAR