BEGIN:VCALENDAR
VERSION:2.0
PRODID:-//Colloquium Humanum e.V. - ECPv6.15.20//NONSGML v1.0//EN
CALSCALE:GREGORIAN
METHOD:PUBLISH
X-ORIGINAL-URL:https://ch-bonn.de
X-WR-CALDESC:Veranstaltungen für Colloquium Humanum e.V.
REFRESH-INTERVAL;VALUE=DURATION:PT1H
X-Robots-Tag:noindex
X-PUBLISHED-TTL:PT1H
BEGIN:VTIMEZONE
TZID:Europe/Berlin
BEGIN:DAYLIGHT
TZOFFSETFROM:+0100
TZOFFSETTO:+0200
TZNAME:CEST
DTSTART:20230326T010000
END:DAYLIGHT
BEGIN:STANDARD
TZOFFSETFROM:+0200
TZOFFSETTO:+0100
TZNAME:CET
DTSTART:20231029T010000
END:STANDARD
BEGIN:DAYLIGHT
TZOFFSETFROM:+0100
TZOFFSETTO:+0200
TZNAME:CEST
DTSTART:20240331T010000
END:DAYLIGHT
BEGIN:STANDARD
TZOFFSETFROM:+0200
TZOFFSETTO:+0100
TZNAME:CET
DTSTART:20241027T010000
END:STANDARD
BEGIN:DAYLIGHT
TZOFFSETFROM:+0100
TZOFFSETTO:+0200
TZNAME:CEST
DTSTART:20250330T010000
END:DAYLIGHT
BEGIN:STANDARD
TZOFFSETFROM:+0200
TZOFFSETTO:+0100
TZNAME:CET
DTSTART:20251026T010000
END:STANDARD
END:VTIMEZONE
BEGIN:VEVENT
DTSTART;TZID=Europe/Berlin:20241010T190000
DTEND;TZID=Europe/Berlin:20241010T190000
DTSTAMP:20260419T164748
CREATED:20240326T124742Z
LAST-MODIFIED:20241017T092323Z
UID:6425-1728586800-1728586800@ch-bonn.de
SUMMARY:Vortrag von Dr. Gregor Berghorn - Teil 1: „Das Gesicht hinter dem Gesicht - Russland wie es nicht in der Zeitung steht“
DESCRIPTION:Sehr viel müssen wir in diesen Tagen und Wochen über die aktuellen Vorgänge und Ereignisse in und über Russland erfahren. In der Regel kommen die Informationen nur noch aus Moskau\, das wir zurzeit als das einzige Gesicht des Landes wahrnehmen (müssen). Aber was ist mit dem Gesicht\, das wir nicht mehr zu sehen bekommen? Wie sieht dieses andere Gesicht aus\, wie ist es geprägt worden\, welche Elemente formen das „andere Russland“? \nDer Referent geht ein auf die latente Rivalität zwischen Moskau und St. Petersburg\, den Gegensatz zwischen Hauptstadt und Region\, auf soziale Aspekte\, auf den Langzeitwechsel zwischen Öffnung und Isolierung des Landes\, auf Prägungen durch Byzanz und die Tataren. Was bedeutet die Polyethnie für Russland\, welche Religionsgemeinschaften gibt es\, welche Rolle spielt der Islam\, und was sind „typische“ russische Figuren? Gibt es eine Wiederkehr des Schamanismus? \nDa sich der Vortrag zahlreicher und weniger bekannter Aspekte annimmt\, wird er auf zwei Vortragsabende aufgeteilt.
URL:https://ch-bonn.de/event/vortrag-verteilt-ueber-2-abende-von-dr-gregor-berghorn/
LOCATION:Trinkpavillon/Kurfürstenquelle Bad Godesberg\, Koblenzer Str. 80\, Bonn\, 53177
CATEGORIES:Vortrag
END:VEVENT
END:VCALENDAR