BEGIN:VCALENDAR
VERSION:2.0
PRODID:-//Colloquium Humanum e.V. - ECPv6.15.20//NONSGML v1.0//EN
CALSCALE:GREGORIAN
METHOD:PUBLISH
X-ORIGINAL-URL:https://ch-bonn.de
X-WR-CALDESC:Veranstaltungen für Colloquium Humanum e.V.
REFRESH-INTERVAL;VALUE=DURATION:PT1H
X-Robots-Tag:noindex
X-PUBLISHED-TTL:PT1H
BEGIN:VTIMEZONE
TZID:Europe/Berlin
BEGIN:DAYLIGHT
TZOFFSETFROM:+0100
TZOFFSETTO:+0200
TZNAME:CEST
DTSTART:20230326T010000
END:DAYLIGHT
BEGIN:STANDARD
TZOFFSETFROM:+0200
TZOFFSETTO:+0100
TZNAME:CET
DTSTART:20231029T010000
END:STANDARD
BEGIN:DAYLIGHT
TZOFFSETFROM:+0100
TZOFFSETTO:+0200
TZNAME:CEST
DTSTART:20240331T010000
END:DAYLIGHT
BEGIN:STANDARD
TZOFFSETFROM:+0200
TZOFFSETTO:+0100
TZNAME:CET
DTSTART:20241027T010000
END:STANDARD
BEGIN:DAYLIGHT
TZOFFSETFROM:+0100
TZOFFSETTO:+0200
TZNAME:CEST
DTSTART:20250330T010000
END:DAYLIGHT
BEGIN:STANDARD
TZOFFSETFROM:+0200
TZOFFSETTO:+0100
TZNAME:CET
DTSTART:20251026T010000
END:STANDARD
END:VTIMEZONE
BEGIN:VEVENT
DTSTART;TZID=Europe/Berlin:20240616T110000
DTEND;TZID=Europe/Berlin:20240616T130000
DTSTAMP:20260425T122130
CREATED:20240307T110923Z
LAST-MODIFIED:20240702T093504Z
UID:6409-1718535600-1718542800@ch-bonn.de
SUMMARY:Festliche Matinee
DESCRIPTION:In jedem Jahr entsenden die auf allen Kontinenten tätigen Richard-Wagner-Verbände hochbegabte junge Künstler*innen und Wissenschaftler*innen unter 35 Jahren für den Zeitraum einer Woche im August zu den Bayreuther Festspielen. Diese Stipendiaten*innen erleben dann 3 Vorstellungen des Festivals und treffen 250 Kollegen*innen aus der ganzen Welt zum Gedankenaustausch. \n2024 hat der Richard-Wagner-Verband Bonn die aus Georgien stammende Pianistin Sofi Simeonidis und den Geisteswissenschaftler Jan Sebastian Schlossarczyk ausgewählt. \nDas Programm der Matinee: \n\nSofi Simeonidis (Klavier) begleitet Julia Kurig (Mezzosopran)\, die Stipendiatin des benachbarten Richard-Wagner-Verbands Koblenz 2024 ist.\nJan Sebastian Schlossarczyk gibt einen Einblick in sein Forschungsprojekt „Wagner erinnern – Wagner bewältigen. Die Bayreuther Festspiele nach 1945 zwischen Erinnerungskultur und Vergangenheitsbewältigung“.\n\nEs werden Werke von Komponisten verschiedener Epochen gespielt\, z.B. Robert Schumann\, Johannes Brahms\, Richard Wagner\, Franz Schubert\, Ethel Smyth\, Rebecca Clarke\, Olivier Messiaen\, Hugo Wolf. \nDie Veranstaltung ist eine Kooperation des Richard-Wagner-Verbands Bonn e.V. mit dem Woelf-Haus Bonn und dem Colloquium Humanum e.V.
URL:https://ch-bonn.de/event/festliches-sommerkonzert/
LOCATION:Woelfl-Haus\, Lessenich\, Meßdorfer Str. 177\, 53123 Bonn
CATEGORIES:Konzert
END:VEVENT
END:VCALENDAR