BEGIN:VCALENDAR
VERSION:2.0
PRODID:-//Colloquium Humanum e.V. - ECPv6.15.20//NONSGML v1.0//EN
CALSCALE:GREGORIAN
METHOD:PUBLISH
X-ORIGINAL-URL:https://ch-bonn.de
X-WR-CALDESC:Veranstaltungen für Colloquium Humanum e.V.
REFRESH-INTERVAL;VALUE=DURATION:PT1H
X-Robots-Tag:noindex
X-PUBLISHED-TTL:PT1H
BEGIN:VTIMEZONE
TZID:Europe/Berlin
BEGIN:DAYLIGHT
TZOFFSETFROM:+0100
TZOFFSETTO:+0200
TZNAME:CEST
DTSTART:20230326T010000
END:DAYLIGHT
BEGIN:STANDARD
TZOFFSETFROM:+0200
TZOFFSETTO:+0100
TZNAME:CET
DTSTART:20231029T010000
END:STANDARD
BEGIN:DAYLIGHT
TZOFFSETFROM:+0100
TZOFFSETTO:+0200
TZNAME:CEST
DTSTART:20240331T010000
END:DAYLIGHT
BEGIN:STANDARD
TZOFFSETFROM:+0200
TZOFFSETTO:+0100
TZNAME:CET
DTSTART:20241027T010000
END:STANDARD
BEGIN:DAYLIGHT
TZOFFSETFROM:+0100
TZOFFSETTO:+0200
TZNAME:CEST
DTSTART:20250330T010000
END:DAYLIGHT
BEGIN:STANDARD
TZOFFSETFROM:+0200
TZOFFSETTO:+0100
TZNAME:CET
DTSTART:20251026T010000
END:STANDARD
END:VTIMEZONE
BEGIN:VEVENT
DTSTART;TZID=Europe/Berlin:20240613T190000
DTEND;TZID=Europe/Berlin:20240613T190000
DTSTAMP:20260423T105308
CREATED:20240109T112008Z
LAST-MODIFIED:20240702T093942Z
UID:6217-1718305200-1718305200@ch-bonn.de
SUMMARY:Vortrag von Marcus Spangenberg: „In fernem Land\, unnahbar euren Schritten“ – Wagner Opern und Schlossarchitekturen als Erlösung für Ludwig II.
DESCRIPTION:Eines der berühmtesten Bauwerke in Deutschland gäbe es ohne »Lohengrin« von Richard Wagner wohl nicht: Schloss Neuschwanstein ist nicht nur von Theatermalern entworfen\, sondern entspringt direkt einer Vision\, die der bayerische „Märchenkönig“ Ludwig II. aus dieser Oper entwickelte. Das aktuelle Vorhaben\, die Bauten Ludwigs II. zum Welterbe zu deklarieren\, und die anhaltende Popularität eines der weltweit bekanntesten Monarchen erklären\, warum es sich mit diesem reich bebilderten Vortrag anbietet\, der engen Verflechtung zwischen den Wagner-Opern »Lohengrin«\, »Tannhäuser« und »Parsifal« einerseits und den Schlössern Ludwigs II. nachzugehen. \nAm 138. Todestag des Bayernkönigs stellt der gebürtige Bad Godesberger Marcus Spangenberg das sich steigernde Verständnis Ludwigs als eines Herrschers von Gottes Gnaden in den Mittelpunkt. Als solcher sehnte Ludwig sich nach Reinheit und Vollkommenheit. Richard Wagner bot mit seinen Werken dafür den idealen Nährboden. \nDie Veranstaltung findet in Kooperation mit dem Richard-Wagner-Verband Bonn e.V. statt.
URL:https://ch-bonn.de/event/vortrag-von-marcus-spangenberg-in-fernem-land-unnahbar-euren-schritten-wagner-oper-und-schlossarchitekturen-als-erloesung-fuer-ludwig-ii/
LOCATION:Trinkpavillon/Kurfürstenquelle Bad Godesberg\, Koblenzer Str. 80\, Bonn\, 53177
CATEGORIES:Vortrag
END:VEVENT
END:VCALENDAR