BEGIN:VCALENDAR
VERSION:2.0
PRODID:-//Colloquium Humanum e.V. - ECPv6.15.20//NONSGML v1.0//EN
CALSCALE:GREGORIAN
METHOD:PUBLISH
X-WR-CALNAME:Colloquium Humanum e.V.
X-ORIGINAL-URL:https://ch-bonn.de
X-WR-CALDESC:Veranstaltungen für Colloquium Humanum e.V.
REFRESH-INTERVAL;VALUE=DURATION:PT1H
X-Robots-Tag:noindex
X-PUBLISHED-TTL:PT1H
BEGIN:VTIMEZONE
TZID:Europe/Berlin
BEGIN:DAYLIGHT
TZOFFSETFROM:+0100
TZOFFSETTO:+0200
TZNAME:CEST
DTSTART:20230326T010000
END:DAYLIGHT
BEGIN:STANDARD
TZOFFSETFROM:+0200
TZOFFSETTO:+0100
TZNAME:CET
DTSTART:20231029T010000
END:STANDARD
BEGIN:DAYLIGHT
TZOFFSETFROM:+0100
TZOFFSETTO:+0200
TZNAME:CEST
DTSTART:20240331T010000
END:DAYLIGHT
BEGIN:STANDARD
TZOFFSETFROM:+0200
TZOFFSETTO:+0100
TZNAME:CET
DTSTART:20241027T010000
END:STANDARD
BEGIN:DAYLIGHT
TZOFFSETFROM:+0100
TZOFFSETTO:+0200
TZNAME:CEST
DTSTART:20250330T010000
END:DAYLIGHT
BEGIN:STANDARD
TZOFFSETFROM:+0200
TZOFFSETTO:+0100
TZNAME:CET
DTSTART:20251026T010000
END:STANDARD
END:VTIMEZONE
BEGIN:VEVENT
DTSTART;TZID=Europe/Berlin:20240529T140000
DTEND;TZID=Europe/Berlin:20240529T170000
DTSTAMP:20260423T141156
CREATED:20240411T095152Z
LAST-MODIFIED:20240531T104907Z
UID:6523-1716991200-1717002000@ch-bonn.de
SUMMARY:CHD - Besuch und Führung im Siegburger Humperdinck-Museums
DESCRIPTION:Der weltbekannte Komponist Engelbert Humperdinck spielt eine wichtige Rolle im Stadtmuseum\, das 1990 eröffnet wurde. Das Gebäude selbst ist jedoch viel älter: Hier wurde Engelbert Humperdinck 1854 geboren\, als das Museumsgebäude noch eine Schule war\, an der sein Vater unterrichtete. Im Keller sind sogar noch ältere Gewölbereste zu sehen – das Schul- und spätere Museumsgebäude wurde auf dem mittelalterlichen Rathaus erbaut. \nDas Stadtmuseum liegt in der Innenstadt zentral am Marktplatz und ist mit dem ÖPNV gut erreichbar. Die nächstgelegenen Haltestellen sind „Siegburg Bahnhof“ und „Siegburg Stadthalle“. Von hier sind es nur wenige Gehminuten zum Stadtmuseum. \nEigene Anfahrt mit PKW oder Bahn \nNach der Führung besteht die Möglichkeit im Museumscafé auf eigene Kosten einzukehren.
URL:https://ch-bonn.de/event/chd-besuch-und-fuehrung-im-siegburger-humperdinckmuseums/
CATEGORIES:(CHD) Ausstellungsbesuch/Museum
END:VEVENT
END:VCALENDAR