BEGIN:VCALENDAR
VERSION:2.0
PRODID:-//Colloquium Humanum e.V. - ECPv6.15.20//NONSGML v1.0//EN
CALSCALE:GREGORIAN
METHOD:PUBLISH
X-ORIGINAL-URL:https://ch-bonn.de
X-WR-CALDESC:Veranstaltungen für Colloquium Humanum e.V.
REFRESH-INTERVAL;VALUE=DURATION:PT1H
X-Robots-Tag:noindex
X-PUBLISHED-TTL:PT1H
BEGIN:VTIMEZONE
TZID:Europe/Berlin
BEGIN:DAYLIGHT
TZOFFSETFROM:+0100
TZOFFSETTO:+0200
TZNAME:CEST
DTSTART:20220327T010000
END:DAYLIGHT
BEGIN:STANDARD
TZOFFSETFROM:+0200
TZOFFSETTO:+0100
TZNAME:CET
DTSTART:20221030T010000
END:STANDARD
BEGIN:DAYLIGHT
TZOFFSETFROM:+0100
TZOFFSETTO:+0200
TZNAME:CEST
DTSTART:20230326T010000
END:DAYLIGHT
BEGIN:STANDARD
TZOFFSETFROM:+0200
TZOFFSETTO:+0100
TZNAME:CET
DTSTART:20231029T010000
END:STANDARD
BEGIN:DAYLIGHT
TZOFFSETFROM:+0100
TZOFFSETTO:+0200
TZNAME:CEST
DTSTART:20240331T010000
END:DAYLIGHT
BEGIN:STANDARD
TZOFFSETFROM:+0200
TZOFFSETTO:+0100
TZNAME:CET
DTSTART:20241027T010000
END:STANDARD
END:VTIMEZONE
BEGIN:VEVENT
DTSTART;TZID=Europe/Berlin:20230620T190000
DTEND;TZID=Europe/Berlin:20230620T190000
DTSTAMP:20260422T122819
CREATED:20230321T140051Z
LAST-MODIFIED:20230622T095739Z
UID:5693-1687287600-1687287600@ch-bonn.de
SUMMARY:Sabine Zurmühl liest aus ihrem neu erschienenen Buch „Cosima Wagner – Ein widersprüchliches Leben“
DESCRIPTION:Die Autorin stellt ihre aktuelle Cosima-Wagner-Biographie vor. Sie wird dabei die historische Situation dieser besonderen Frau und Theaterleiterin einordnen und in einzelnen Lesepassagen ihre Sichtweise von Cosimas Person\, ihrem Verhältnis zu ihrem abwesenden Vater Liszt\, ihren Gemeinsamkeiten mit Wagner und dem Wagnis Bayreuth darlegen. \nSabine Zurmühl M.A.\, geboren in Berlin\, Studium der Germanistik\, Romanistik und Theaterwissenschaft an der FU Berlin\, als freie Autorin\, Kritikerin und Filmemacherin tätig für Zeitungen\, Hörfunk und ARD-Fernsehen. Mitbegründerin der Zeitschrift „Courage“. Diverse Buchveröffentlichungen. Ebenfalls als Mediatorin tätig. \nDie Veranstaltung findet in Kooperation mit dem Richard-Wagner-Verband Bonn e.V. statt. \nDer Eintritt ist frei.
URL:https://ch-bonn.de/event/sabine-zurmuehl-liest-aus-ihrem-neu-erschienenen-buch-cosima-wagner-ein-widerspruechliches-leben/
LOCATION:Trinkpavillon/Kurfürstenquelle Bad Godesberg\, Koblenzer Str. 80\, Bonn\, 53177
CATEGORIES:Autorenlesung
END:VEVENT
END:VCALENDAR