BEGIN:VCALENDAR
VERSION:2.0
PRODID:-//Colloquium Humanum e.V. - ECPv6.15.20//NONSGML v1.0//EN
CALSCALE:GREGORIAN
METHOD:PUBLISH
X-ORIGINAL-URL:https://ch-bonn.de
X-WR-CALDESC:Veranstaltungen für Colloquium Humanum e.V.
REFRESH-INTERVAL;VALUE=DURATION:PT1H
X-Robots-Tag:noindex
X-PUBLISHED-TTL:PT1H
BEGIN:VTIMEZONE
TZID:Europe/Berlin
BEGIN:DAYLIGHT
TZOFFSETFROM:+0100
TZOFFSETTO:+0200
TZNAME:CEST
DTSTART:20220327T010000
END:DAYLIGHT
BEGIN:STANDARD
TZOFFSETFROM:+0200
TZOFFSETTO:+0100
TZNAME:CET
DTSTART:20221030T010000
END:STANDARD
BEGIN:DAYLIGHT
TZOFFSETFROM:+0100
TZOFFSETTO:+0200
TZNAME:CEST
DTSTART:20230326T010000
END:DAYLIGHT
BEGIN:STANDARD
TZOFFSETFROM:+0200
TZOFFSETTO:+0100
TZNAME:CET
DTSTART:20231029T010000
END:STANDARD
BEGIN:DAYLIGHT
TZOFFSETFROM:+0100
TZOFFSETTO:+0200
TZNAME:CEST
DTSTART:20240331T010000
END:DAYLIGHT
BEGIN:STANDARD
TZOFFSETFROM:+0200
TZOFFSETTO:+0100
TZNAME:CET
DTSTART:20241027T010000
END:STANDARD
END:VTIMEZONE
BEGIN:VEVENT
DTSTART;TZID=Europe/Berlin:20230612T190000
DTEND;TZID=Europe/Berlin:20230612T190000
DTSTAMP:20260420T161531
CREATED:20230124T114533Z
LAST-MODIFIED:20230613T054112Z
UID:5554-1686596400-1686596400@ch-bonn.de
SUMMARY:Vortrag von Prof. Dr. Albert Gerhards (Emeritus)\, Professor für Liturgiewissenschaft an der Katholisch-Theologischen Fakultät der Universität Bonn.: „Kirche im Wandel – neue Perspektiven für Sakralgebäude im Spannungsfeld von Religion und Gesellschaft"
DESCRIPTION:Die christlichen Kirchen durchleben in diesen Jahren einen großen Wandel. Katholiken und Protestanten verlieren dramatisch an Mitglieder. Als Folge dieses Mitgliederschwunds stellt sich die Frage notwendiger Zusammenlegung von Gemeinden. Damit werden auch zunehmend Kirchengebäude nicht mehr gebraucht. Was tun mit diesen Liegenschaften? Welche Nutzung kommt in Frage? \nDieser wichtigen Frage stellt sich der Vortrag von Dr. Gerhards\, Professor für katholische Theologie an der UNI Bonn.
URL:https://ch-bonn.de/event/vortrag-von-prof-dr-albert-gerhards-emeritus-professor-fuer-liturgie-wissenschaft-an-der-katholisch-theologischen-fakultaet-der-universitaet-bonn-kirche-im-wandel-nicht-nur-die-fromme/
LOCATION:Trinkpavillon/Kurfürstenquelle Bad Godesberg\, Koblenzer Str. 80\, Bonn\, 53177
CATEGORIES:Vortrag
END:VEVENT
END:VCALENDAR