BEGIN:VCALENDAR
VERSION:2.0
PRODID:-//Colloquium Humanum e.V. - ECPv6.15.20//NONSGML v1.0//EN
CALSCALE:GREGORIAN
METHOD:PUBLISH
X-WR-CALNAME:Colloquium Humanum e.V.
X-ORIGINAL-URL:https://ch-bonn.de
X-WR-CALDESC:Veranstaltungen für Colloquium Humanum e.V.
REFRESH-INTERVAL;VALUE=DURATION:PT1H
X-Robots-Tag:noindex
X-PUBLISHED-TTL:PT1H
BEGIN:VTIMEZONE
TZID:Europe/Berlin
BEGIN:DAYLIGHT
TZOFFSETFROM:+0100
TZOFFSETTO:+0200
TZNAME:CEST
DTSTART:20220327T010000
END:DAYLIGHT
BEGIN:STANDARD
TZOFFSETFROM:+0200
TZOFFSETTO:+0100
TZNAME:CET
DTSTART:20221030T010000
END:STANDARD
BEGIN:DAYLIGHT
TZOFFSETFROM:+0100
TZOFFSETTO:+0200
TZNAME:CEST
DTSTART:20230326T010000
END:DAYLIGHT
BEGIN:STANDARD
TZOFFSETFROM:+0200
TZOFFSETTO:+0100
TZNAME:CET
DTSTART:20231029T010000
END:STANDARD
BEGIN:DAYLIGHT
TZOFFSETFROM:+0100
TZOFFSETTO:+0200
TZNAME:CEST
DTSTART:20240331T010000
END:DAYLIGHT
BEGIN:STANDARD
TZOFFSETFROM:+0200
TZOFFSETTO:+0100
TZNAME:CET
DTSTART:20241027T010000
END:STANDARD
END:VTIMEZONE
BEGIN:VEVENT
DTSTART;TZID=Europe/Berlin:20230525T140000
DTEND;TZID=Europe/Berlin:20230525T190000
DTSTAMP:20260422T122414
CREATED:20230321T135913Z
LAST-MODIFIED:20230613T054016Z
UID:5691-1685023200-1685041200@ch-bonn.de
SUMMARY:CHD - Besuch des Gartens der Religionen in Köln
DESCRIPTION:Mitten in der pulsierenden Großstadt Köln bietet der 125 Jahre alte Verein „In Via“ eine faszinierende Führung durch eine grüne Oase. Sie liegt direkt am Bahnhof Köln-Süd – ca. 3 Minuten Fußweg – zwischen der Luxemburger Straße und dem Barbarossaplatz. \nSeit 2011 empfängt der völlig neugestaltete\, alte Klostergarten des „Canisiushauses“ in der Stolzestr. 1a zahlreiche Gäste und zeigt – an 5 symbolischen Steinen – die 5 Weltreligionen\, sowie eine Sonnenuhr und ein „Canisiusspiel“. Verwundene Ecken\, junge Obstbäume\, wunderbare Blumenbeete und Parkbänke laden zum Verweilen und Entspannen ein. Wellness pur! \nNach der Führung können wir frischen\, hausgemachten Erdbeer- oder Schmandkuchen auf der Terrasse des Refektoriums genießen. (Bei schlechtem Wetter Kaffeetrinken innen). \nHerren und Gäste sind sehr willkommen. Über eine rege Teilnahme freut sich das CHD-Team.
URL:https://ch-bonn.de/event/chd-besuch-des-gartens-der-religionen-in-koeln/
CATEGORIES:(CHD) Halbtagesfahrt
END:VEVENT
END:VCALENDAR