BEGIN:VCALENDAR
VERSION:2.0
PRODID:-//Colloquium Humanum e.V. - ECPv6.15.20//NONSGML v1.0//EN
CALSCALE:GREGORIAN
METHOD:PUBLISH
X-ORIGINAL-URL:https://ch-bonn.de
X-WR-CALDESC:Veranstaltungen für Colloquium Humanum e.V.
REFRESH-INTERVAL;VALUE=DURATION:PT1H
X-Robots-Tag:noindex
X-PUBLISHED-TTL:PT1H
BEGIN:VTIMEZONE
TZID:Europe/Berlin
BEGIN:DAYLIGHT
TZOFFSETFROM:+0100
TZOFFSETTO:+0200
TZNAME:CEST
DTSTART:20220327T010000
END:DAYLIGHT
BEGIN:STANDARD
TZOFFSETFROM:+0200
TZOFFSETTO:+0100
TZNAME:CET
DTSTART:20221030T010000
END:STANDARD
BEGIN:DAYLIGHT
TZOFFSETFROM:+0100
TZOFFSETTO:+0200
TZNAME:CEST
DTSTART:20230326T010000
END:DAYLIGHT
BEGIN:STANDARD
TZOFFSETFROM:+0200
TZOFFSETTO:+0100
TZNAME:CET
DTSTART:20231029T010000
END:STANDARD
BEGIN:DAYLIGHT
TZOFFSETFROM:+0100
TZOFFSETTO:+0200
TZNAME:CEST
DTSTART:20240331T010000
END:DAYLIGHT
BEGIN:STANDARD
TZOFFSETFROM:+0200
TZOFFSETTO:+0100
TZNAME:CET
DTSTART:20241027T010000
END:STANDARD
END:VTIMEZONE
BEGIN:VEVENT
DTSTART;TZID=Europe/Berlin:20230424T190000
DTEND;TZID=Europe/Berlin:20230424T190000
DTSTAMP:20260420T110728
CREATED:20230418T175931Z
LAST-MODIFIED:20230425T110137Z
UID:5747-1682362800-1682362800@ch-bonn.de
SUMMARY:Vortrag von Peter R. Kern\, Vizepräsident: „Sekten\, Propheten\, Wunderheiler“
DESCRIPTION:Eine Million Katholiken und Protestanten verließen im letzten Jahr ihre Kirche. \nAuf der Suche nach einem neuen religiösen Halt fanden viele von ihnen den Weg zu Sekten\, die sich weltweit\, aber auch in Deutschland immer mehr verbreiten. \nIn meinem Vortrag werde ich einige von ihnen vorstellen und auf die Schicksale und die Nöte derer hinweisen\, die sich aus dem finanziellen Druck und der psychischen Umklammerung wieder lösen wollen. \nKriminelle Handlungen an Aussteigern gehen einher mit Erpressung und materieller Vernichtung. \nWie üblich wird nach dem Vortrag eine Erfrischung angeboten.
URL:https://ch-bonn.de/event/vortrag-von-peter-r-kern-vizepraesident-sekten-propheten-wunderheiler/
LOCATION:Trinkpavillon/Kurfürstenquelle Bad Godesberg\, Koblenzer Str. 80\, Bonn\, 53177
CATEGORIES:Vortrag
END:VEVENT
END:VCALENDAR