BEGIN:VCALENDAR
VERSION:2.0
PRODID:-//Colloquium Humanum e.V. - ECPv6.15.20//NONSGML v1.0//EN
CALSCALE:GREGORIAN
METHOD:PUBLISH
X-ORIGINAL-URL:https://ch-bonn.de
X-WR-CALDESC:Veranstaltungen für Colloquium Humanum e.V.
REFRESH-INTERVAL;VALUE=DURATION:PT1H
X-Robots-Tag:noindex
X-PUBLISHED-TTL:PT1H
BEGIN:VTIMEZONE
TZID:Europe/Berlin
BEGIN:DAYLIGHT
TZOFFSETFROM:+0100
TZOFFSETTO:+0200
TZNAME:CEST
DTSTART:20220327T010000
END:DAYLIGHT
BEGIN:STANDARD
TZOFFSETFROM:+0200
TZOFFSETTO:+0100
TZNAME:CET
DTSTART:20221030T010000
END:STANDARD
BEGIN:DAYLIGHT
TZOFFSETFROM:+0100
TZOFFSETTO:+0200
TZNAME:CEST
DTSTART:20230326T010000
END:DAYLIGHT
BEGIN:STANDARD
TZOFFSETFROM:+0200
TZOFFSETTO:+0100
TZNAME:CET
DTSTART:20231029T010000
END:STANDARD
BEGIN:DAYLIGHT
TZOFFSETFROM:+0100
TZOFFSETTO:+0200
TZNAME:CEST
DTSTART:20240331T010000
END:DAYLIGHT
BEGIN:STANDARD
TZOFFSETFROM:+0200
TZOFFSETTO:+0100
TZNAME:CET
DTSTART:20241027T010000
END:STANDARD
END:VTIMEZONE
BEGIN:VEVENT
DTSTART;TZID=Europe/Berlin:20230418T150000
DTEND;TZID=Europe/Berlin:20230418T150000
DTSTAMP:20260420T123905
CREATED:20221220T113606Z
LAST-MODIFIED:20230509T064043Z
UID:5485-1681830000-1681830000@ch-bonn.de
SUMMARY:CHD - Vortrag von Dr. Angelika Schmid\, Kunsthistorikerin: „Elisabeth Erdmann-Macke (1888-1978) - Muse und Modell\, Vertraute und Managerin für August Macke"
DESCRIPTION:Kunsthistorikerin Frau Dr. Angelika Schmid ist seit 2000 für das Kunstmuseum Bonn und die Kunst- und Ausstellungshalle der BRD als Kunstvermittlerin tätig und hat neben Publikationen an Ausstellungskonzeptionen u.a. für das August Macke Haus mitgewirkt. Ihre Themenschwerpunkte reichen von der Kunst des Mittelalters über Malerei und Bildhauerei des 19. und 20. Jahrhunderts\, insbesondere des Impressionismus und des deutschen Expressionismus\, bis zur Kunst der Gegenwart. \nIn den wenigen Jahren mit dem expressionistischen Maler August Macke (1887-1914) war Elisabeth Erdmann-Macke ihm Partnerin auf Augenhöhe\, förderte ihn in seinem künstlerischen Schaffen und war selbst künstlerisch tätig. August Macke fiel 1914 kurz nach Kriegsausbruch\, ihr zweiter Ehemann Lothar Erdmann\, Publizist und ein Schulfreund Mackes\, starb 1929 im KZ Sachsenhausen. Trotz aller Schicksalsschläge gab die junge Witwe nicht auf\, zog fünf Kinder groß und betreute das Werk von August Macke. Ohne ihre Umsicht und Tatkraft wäre ein großer Teil seiner Bilder verloren. \nKostenbeitrag: (inkl. Honorar für die Referentin\, Kaffee/Tee\, Mineralwasser\, 1 Stück Kuchen) \n12\,00 € für Mitglieder – 15\,00 € für Gäste – Keine Zahlung vor Ort möglich! \nHerren und Gäste sind wie immer sehr willkommen. Über eine rege Teilnahme freut sich das CHD-Team. \nMit freundlichen Grüßen \nMargret Pauels
URL:https://ch-bonn.de/event/chd-vortrag-welche-bedeutung-hatte-elisabeth-erdmann-macke-fuer-das-schaffen-des-malers-august-macke/
LOCATION:Offene Tür Dürenstraße e.V.\, Dürenstraße 2\, 53173 Bonn
CATEGORIES:(CHD) Vortrag
END:VEVENT
END:VCALENDAR