BEGIN:VCALENDAR
VERSION:2.0
PRODID:-//Colloquium Humanum e.V. - ECPv6.15.20//NONSGML v1.0//EN
CALSCALE:GREGORIAN
METHOD:PUBLISH
X-ORIGINAL-URL:https://ch-bonn.de
X-WR-CALDESC:Veranstaltungen für Colloquium Humanum e.V.
REFRESH-INTERVAL;VALUE=DURATION:PT1H
X-Robots-Tag:noindex
X-PUBLISHED-TTL:PT1H
BEGIN:VTIMEZONE
TZID:Europe/Berlin
BEGIN:DAYLIGHT
TZOFFSETFROM:+0100
TZOFFSETTO:+0200
TZNAME:CEST
DTSTART:20220327T010000
END:DAYLIGHT
BEGIN:STANDARD
TZOFFSETFROM:+0200
TZOFFSETTO:+0100
TZNAME:CET
DTSTART:20221030T010000
END:STANDARD
BEGIN:DAYLIGHT
TZOFFSETFROM:+0100
TZOFFSETTO:+0200
TZNAME:CEST
DTSTART:20230326T010000
END:DAYLIGHT
BEGIN:STANDARD
TZOFFSETFROM:+0200
TZOFFSETTO:+0100
TZNAME:CET
DTSTART:20231029T010000
END:STANDARD
BEGIN:DAYLIGHT
TZOFFSETFROM:+0100
TZOFFSETTO:+0200
TZNAME:CEST
DTSTART:20240331T010000
END:DAYLIGHT
BEGIN:STANDARD
TZOFFSETFROM:+0200
TZOFFSETTO:+0100
TZNAME:CET
DTSTART:20241027T010000
END:STANDARD
END:VTIMEZONE
BEGIN:VEVENT
DTSTART;TZID=Europe/Berlin:20230327T130000
DTEND;TZID=Europe/Berlin:20230327T130000
DTSTAMP:20260420T123857
CREATED:20221201T095906Z
LAST-MODIFIED:20230228T122125Z
UID:5453-1679922000-1679922000@ch-bonn.de
SUMMARY:„Führung durch die Synagoge und das jüdische Leben in Bonn“
DESCRIPTION:Die jüdischen Kulturstätten von Speyer\, Worms und Mainz wurden 2021 in das UNESCO-Kulturerbe übernommen. Damit rückt das langjährige Erbe jüdischer Ansiedlungen wieder verstärkt in das Geschichtsbewusstsein. \nSo auch das jüdische Leben in Bonn\, dessen Tradition uns Frau Dr. Margaret Traub\, die Vorsitzende der Jüdischen Gemeinde\, während einer Führung durch die Synagoge vermitteln wird. \nWir freuen uns über eine rege Teilnahme.
URL:https://ch-bonn.de/event/begegnung-in-der-synagoge-bonn-fuehrung-und-informationsgespraech/
CATEGORIES:Führung
END:VEVENT
END:VCALENDAR