BEGIN:VCALENDAR
VERSION:2.0
PRODID:-//Colloquium Humanum e.V. - ECPv6.15.20//NONSGML v1.0//EN
CALSCALE:GREGORIAN
METHOD:PUBLISH
X-ORIGINAL-URL:https://ch-bonn.de
X-WR-CALDESC:Veranstaltungen für Colloquium Humanum e.V.
REFRESH-INTERVAL;VALUE=DURATION:PT1H
X-Robots-Tag:noindex
X-PUBLISHED-TTL:PT1H
BEGIN:VTIMEZONE
TZID:Europe/Berlin
BEGIN:DAYLIGHT
TZOFFSETFROM:+0100
TZOFFSETTO:+0200
TZNAME:CEST
DTSTART:20220327T010000
END:DAYLIGHT
BEGIN:STANDARD
TZOFFSETFROM:+0200
TZOFFSETTO:+0100
TZNAME:CET
DTSTART:20221030T010000
END:STANDARD
BEGIN:DAYLIGHT
TZOFFSETFROM:+0100
TZOFFSETTO:+0200
TZNAME:CEST
DTSTART:20230326T010000
END:DAYLIGHT
BEGIN:STANDARD
TZOFFSETFROM:+0200
TZOFFSETTO:+0100
TZNAME:CET
DTSTART:20231029T010000
END:STANDARD
BEGIN:DAYLIGHT
TZOFFSETFROM:+0100
TZOFFSETTO:+0200
TZNAME:CEST
DTSTART:20240331T010000
END:DAYLIGHT
BEGIN:STANDARD
TZOFFSETFROM:+0200
TZOFFSETTO:+0100
TZNAME:CET
DTSTART:20241027T010000
END:STANDARD
END:VTIMEZONE
BEGIN:VEVENT
DTSTART;TZID=Europe/Berlin:20230324T190000
DTEND;TZID=Europe/Berlin:20230324T190000
DTSTAMP:20260420T123857
CREATED:20221129T122502Z
LAST-MODIFIED:20230228T122007Z
UID:5441-1679684400-1679684400@ch-bonn.de
SUMMARY:Internationale Begegnung: Ein Abend über Portugal mit Generalkonsulin Lidia Nabais
DESCRIPTION:Portugal ist ein Staat im äußersten Westen unseres Kontinents. Es ist ein Land mit großer Geschichte – schon im Zeitalter der Entdeckungen. Im Vertrag von Tordesillas teilten Portugal und Spanien 1494 die (neue) Welt unter sich auf. So wurde z.B. das Gebiet des heutigen Brasiliens portugiesisch. \nBereits in der frühen Neuzeit war Portugal auch ein kulturelles Zentrum in Europa. Luís Vaz de Camões gilt als einer der bedeutendsten Dichter seiner Zeit in Europa. \nHeute ist Portugal – nach langen Jahren der Diktatur im 20. Jahrhundert – eine lebendige Demokratie\, deren wichtigsten Vertreter auch auf internationalem Parkett eine Rolle spielen. Portugiesen sind der amtierende Generalsekretär der UNO\, António Guterres\, und der langjährige Präsident der EU-Kommission\, José Manuel Barroso. \nAm heutigen Abend wird zunächst Frau Generalkonsulin Lidia Nabais über Politik\, Geschichte und Kultur Portugals sprechen\, danach erleben wir einen musikalischen Leckerbissen\, das Ensemble Cantus Portugueses. Sie präsentieren traditionelle portugiesische Musik von hoher Qualität und keine für den Tourismus bestimmte Pseudo-Folklore. \nIm Anschluss lädt das CH zu einem kleinen Empfang ein. \nDas CH dankt der Bücherei der Erlöser-Kirchengemeinde\, Frau Rosemarie Kimmerle\, für die gute Zusammenarbeit.
URL:https://ch-bonn.de/event/portugalabend-mit-generalkonsulin-lidia-nabais/
LOCATION:Historischer Gemeindesaal der Erlöser-Kirchengemeinde\, Kronprinzenstr. 31\, 53173 Bonn
CATEGORIES:Internationale Begegnung
END:VEVENT
END:VCALENDAR