BEGIN:VCALENDAR
VERSION:2.0
PRODID:-//Colloquium Humanum e.V. - ECPv6.15.20//NONSGML v1.0//EN
CALSCALE:GREGORIAN
METHOD:PUBLISH
X-WR-CALNAME:Colloquium Humanum e.V.
X-ORIGINAL-URL:https://ch-bonn.de
X-WR-CALDESC:Veranstaltungen für Colloquium Humanum e.V.
REFRESH-INTERVAL;VALUE=DURATION:PT1H
X-Robots-Tag:noindex
X-PUBLISHED-TTL:PT1H
BEGIN:VTIMEZONE
TZID:Europe/Berlin
BEGIN:DAYLIGHT
TZOFFSETFROM:+0100
TZOFFSETTO:+0200
TZNAME:CEST
DTSTART:20220327T010000
END:DAYLIGHT
BEGIN:STANDARD
TZOFFSETFROM:+0200
TZOFFSETTO:+0100
TZNAME:CET
DTSTART:20221030T010000
END:STANDARD
BEGIN:DAYLIGHT
TZOFFSETFROM:+0100
TZOFFSETTO:+0200
TZNAME:CEST
DTSTART:20230326T010000
END:DAYLIGHT
BEGIN:STANDARD
TZOFFSETFROM:+0200
TZOFFSETTO:+0100
TZNAME:CET
DTSTART:20231029T010000
END:STANDARD
BEGIN:DAYLIGHT
TZOFFSETFROM:+0100
TZOFFSETTO:+0200
TZNAME:CEST
DTSTART:20240331T010000
END:DAYLIGHT
BEGIN:STANDARD
TZOFFSETFROM:+0200
TZOFFSETTO:+0100
TZNAME:CET
DTSTART:20241027T010000
END:STANDARD
END:VTIMEZONE
BEGIN:VEVENT
DTSTART;TZID=Europe/Berlin:20230308T190000
DTEND;TZID=Europe/Berlin:20230308T190000
DTSTAMP:20260420T123320
CREATED:20230124T114322Z
LAST-MODIFIED:20230321T115244Z
UID:5550-1678302000-1678302000@ch-bonn.de
SUMMARY:Vortrag von Dr. Gregor Berghorn\, Gruppenleiter für Osteuropa/ Sowjetunion/GUS im DAAD a.D.: "Schicksalsland Belarus – Schicksal eines Landes zwischen West und Ost"
DESCRIPTION:Nach einigen kurzen Eckdaten zum heutigen Belarus geht der Referent ausführlicher auf die wechselvolle Geschichte des Landes ein\, das seit seinen frühesten Anfängen immer ein Spielball im Interessenstreit seiner Nachbarn – Litauen\, Polen\, Russland/Sowjetunion – war. Es gab stets Weißrussen\, aber bis 1992 keine Eigenstaatlichkeit. Der Vortrag nimmt sich dann der jüngeren Entwicklung nach 1992 an und beleuchtet die gravierenden Probleme im sozialen Bereich\, denen sich Belarus heute gegenüber sieht und nimmt Stellung zur Situation des Landes nach den manipulierten Wahlen im August 2020. \nDer Vortrag beschreibt weiterhin die Bedeutung der jüdischen Bevölkerung für die Geschichte und die Entwicklung des Landes bis zu ihrem tragischen Ende und schließt mit der kurzen Nennung berühmt gewordener Weißrussen in Politik\, Kunst und Wissenschaft. \nDie Veranstaltung wird musikalisch umrahmt mit belarussischer Musik. Es spielt Nadzeya Karakulka auf dem Zymbal. \nAnschließend sind Sie zu einem kleinen Umtrunk und Snacks eingeladen. \nDas CH dankt der Bücherei der Erlöser-Kirchengemeinde\, Frau Rosemarie Kimmerle\, für die gute Zusammenarbeit.
URL:https://ch-bonn.de/event/vortrag-von-dr-gregor-berghorn-gruppenleiter-fuer-osteuropa-sowjetunion-gus-im-daad-a-d-schicksalsland-belarus-schicksal-eines-landes-zwischen-west-und-ost/
LOCATION:Historischer Gemeindesaal der Erlöser-Kirchengemeinde\, Kronprinzenstr. 31\, 53173 Bonn
CATEGORIES:Vortrag
END:VEVENT
END:VCALENDAR