BEGIN:VCALENDAR
VERSION:2.0
PRODID:-//Colloquium Humanum e.V. - ECPv6.15.20//NONSGML v1.0//EN
CALSCALE:GREGORIAN
METHOD:PUBLISH
X-WR-CALNAME:Colloquium Humanum e.V.
X-ORIGINAL-URL:https://ch-bonn.de
X-WR-CALDESC:Veranstaltungen für Colloquium Humanum e.V.
REFRESH-INTERVAL;VALUE=DURATION:PT1H
X-Robots-Tag:noindex
X-PUBLISHED-TTL:PT1H
BEGIN:VTIMEZONE
TZID:Europe/Berlin
BEGIN:DAYLIGHT
TZOFFSETFROM:+0100
TZOFFSETTO:+0200
TZNAME:CEST
DTSTART:20210328T010000
END:DAYLIGHT
BEGIN:STANDARD
TZOFFSETFROM:+0200
TZOFFSETTO:+0100
TZNAME:CET
DTSTART:20211031T010000
END:STANDARD
BEGIN:DAYLIGHT
TZOFFSETFROM:+0100
TZOFFSETTO:+0200
TZNAME:CEST
DTSTART:20220327T010000
END:DAYLIGHT
BEGIN:STANDARD
TZOFFSETFROM:+0200
TZOFFSETTO:+0100
TZNAME:CET
DTSTART:20221030T010000
END:STANDARD
BEGIN:DAYLIGHT
TZOFFSETFROM:+0100
TZOFFSETTO:+0200
TZNAME:CEST
DTSTART:20230326T010000
END:DAYLIGHT
BEGIN:STANDARD
TZOFFSETFROM:+0200
TZOFFSETTO:+0100
TZNAME:CET
DTSTART:20231029T010000
END:STANDARD
END:VTIMEZONE
BEGIN:VEVENT
DTSTART;TZID=Europe/Berlin:20221104T190000
DTEND;TZID=Europe/Berlin:20221104T190000
DTSTAMP:20260423T132049
CREATED:20220719T093624Z
LAST-MODIFIED:20221108T093641Z
UID:5137-1667588400-1667588400@ch-bonn.de
SUMMARY:Vortrag von Peer Steinbrück\, Ministerpräsident von NRW a.D.\, Bundesminister der Finanzen a.D.: "Dimension und Konsequenzen  der Zeitenwende"
DESCRIPTION:Peer Steinbrück\, SPD\, war Bundesfinanzminister (2005-2009) und Ministerpräsident von Nordrhein-Westfalen (2002-2005). Als Kandidat der SPD bewarb er sich 2013 für das Amt des Bundeskanzlers\, verlor aber die Wahl. Nach der Niederlegung seines Bundestagsmandates im September 2016 übernahm Peer Steinbrück den Kuratoriumsvorsitz der Bundeskanzler-Helmut-Schmidt-Stiftung. Der studierte Volkswirt war von 1986 bis 1990 Büroleiter des Ministerpräsidenten von NRW\, Johannes Rau. 1990 wurde er Staatsekretär zunächst für Umwelt\, dann für Wirtschaft und Verkehr und schließlich 1993 Minister für Wirtschaft und Verkehr in Schleswig-Holstein. Ab 1998 war er Minister für Wirtschaft und Verkehr und ab 2000 Finanzminister in Nordrhein-Westfalen. \nDas CH dankt der Bücherei der Erlöser-Kirchengemeinde\, Frau Rosemarie Kimmerle\, für die gute Zusammenarbeit.
URL:https://ch-bonn.de/event/vortrag-von-peer-steinbrueck-ministerpraesident-von-nrw-a-d-bundesminister-der-finanzen-a-d/
LOCATION:Historischer Gemeindesaal der Erlöser-Kirchengemeinde\, Kronprinzenstr. 31\, 53173 Bonn
CATEGORIES:Vortrag
END:VEVENT
END:VCALENDAR