BEGIN:VCALENDAR
VERSION:2.0
PRODID:-//Colloquium Humanum e.V. - ECPv6.15.20//NONSGML v1.0//EN
CALSCALE:GREGORIAN
METHOD:PUBLISH
X-WR-CALNAME:Colloquium Humanum e.V.
X-ORIGINAL-URL:https://ch-bonn.de
X-WR-CALDESC:Veranstaltungen für Colloquium Humanum e.V.
REFRESH-INTERVAL;VALUE=DURATION:PT1H
X-Robots-Tag:noindex
X-PUBLISHED-TTL:PT1H
BEGIN:VTIMEZONE
TZID:Europe/Berlin
BEGIN:DAYLIGHT
TZOFFSETFROM:+0100
TZOFFSETTO:+0200
TZNAME:CEST
DTSTART:20210328T010000
END:DAYLIGHT
BEGIN:STANDARD
TZOFFSETFROM:+0200
TZOFFSETTO:+0100
TZNAME:CET
DTSTART:20211031T010000
END:STANDARD
BEGIN:DAYLIGHT
TZOFFSETFROM:+0100
TZOFFSETTO:+0200
TZNAME:CEST
DTSTART:20220327T010000
END:DAYLIGHT
BEGIN:STANDARD
TZOFFSETFROM:+0200
TZOFFSETTO:+0100
TZNAME:CET
DTSTART:20221030T010000
END:STANDARD
BEGIN:DAYLIGHT
TZOFFSETFROM:+0100
TZOFFSETTO:+0200
TZNAME:CEST
DTSTART:20230326T010000
END:DAYLIGHT
BEGIN:STANDARD
TZOFFSETFROM:+0200
TZOFFSETTO:+0100
TZNAME:CET
DTSTART:20231029T010000
END:STANDARD
END:VTIMEZONE
BEGIN:VEVENT
DTSTART;VALUE=DATE:20221025
DTEND;VALUE=DATE:20221026
DTSTAMP:20260421T122817
CREATED:20220626T123625Z
LAST-MODIFIED:20221108T093904Z
UID:5084-1666656000-1666742399@ch-bonn.de
SUMMARY:Besuch der Landesausstellung in Trier: "Der Untergang des Römischen Reiches"
DESCRIPTION:Publikumsmagnet UNESCO-Weltkulturerbe Trier \nDie historische Ausstellung „Der Untergang des römischen Reiches“ ist in 14 Räumen effektvoll inszeniert. Die seltenen Exponate wurden aus 20 Ländern und 80 Museen entliehen. Die professionelle Führung dauert 90 Minuten. \nAb 13:00 Uhr ist in der Nähe des Museums im Café Zeitsprung im Palastgarten Gelegenheit zum Mittagessen. \nAb 14:30 Uhr starten wir in 2 Gruppen zu einer 2-stündigen Stadtführung durch das historische Trier mit Besichtigung der Therme\, der Konstantinbasilika\, des Doms\, der Porta Nigra\, der Karl Marx-Statue u.a. \nAbfahrt 08:00 Uhr Stadthalle Bad Godesberg \nHeimreise ca. 18:00 Uhr nach Absprache. \nKostenbeitrag: 39\,00 € Mitglieder – 45\,00 € Gäste    Keine Zahlung vor Ort möglich! \nColloquium Humanum e.V. tritt im juristischen Sinn nicht als Reiseveranstalter auf und schließt damit jede Haftung aus. Die Teilnahme an der Fahrt findet auf eigenes Risiko statt.
URL:https://ch-bonn.de/event/besuch-der-landesausstellung-in-trier-der-untergang-des-roemischen-reiches/
CATEGORIES:Tagestour
END:VEVENT
END:VCALENDAR