BEGIN:VCALENDAR
VERSION:2.0
PRODID:-//Colloquium Humanum e.V. - ECPv6.15.20//NONSGML v1.0//EN
CALSCALE:GREGORIAN
METHOD:PUBLISH
X-ORIGINAL-URL:https://ch-bonn.de
X-WR-CALDESC:Veranstaltungen für Colloquium Humanum e.V.
REFRESH-INTERVAL;VALUE=DURATION:PT1H
X-Robots-Tag:noindex
X-PUBLISHED-TTL:PT1H
BEGIN:VTIMEZONE
TZID:Europe/Berlin
BEGIN:DAYLIGHT
TZOFFSETFROM:+0100
TZOFFSETTO:+0200
TZNAME:CEST
DTSTART:20210328T010000
END:DAYLIGHT
BEGIN:STANDARD
TZOFFSETFROM:+0200
TZOFFSETTO:+0100
TZNAME:CET
DTSTART:20211031T010000
END:STANDARD
BEGIN:DAYLIGHT
TZOFFSETFROM:+0100
TZOFFSETTO:+0200
TZNAME:CEST
DTSTART:20220327T010000
END:DAYLIGHT
BEGIN:STANDARD
TZOFFSETFROM:+0200
TZOFFSETTO:+0100
TZNAME:CET
DTSTART:20221030T010000
END:STANDARD
BEGIN:DAYLIGHT
TZOFFSETFROM:+0100
TZOFFSETTO:+0200
TZNAME:CEST
DTSTART:20230326T010000
END:DAYLIGHT
BEGIN:STANDARD
TZOFFSETFROM:+0200
TZOFFSETTO:+0100
TZNAME:CET
DTSTART:20231029T010000
END:STANDARD
END:VTIMEZONE
BEGIN:VEVENT
DTSTART;TZID=Europe/Berlin:20220910T120000
DTEND;TZID=Europe/Berlin:20220910T120000
DTSTAMP:20260423T155841
CREATED:20220809T102515Z
LAST-MODIFIED:20220929T105945Z
UID:5150-1662811200-1662811200@ch-bonn.de
SUMMARY:CH-Jahreshauptversammlung
DESCRIPTION:Bonn\, den 23. August 2022 \nLiebe Mitglieder\, \nnach § 7 (2+3) der Satzung lade ich Sie im Namen des Präsidiums herzlich ein zur \nJahreshauptversammlung am Samstag\, 10. September 2022 um 12 Uhr im Trinkpavillon im Godesberger Kurpark \nTAGESORDNUNG: \n\nEröffnung\n\n\nTotenehrung\n\n\nTätigkeitsberichte:\n\n3.1       Präsident \n3.2       die Vorsitzende des Beirats \n3.3       Finanzbericht des Schatzmeisters \n\nBericht des Kassenprüfers\n\n\nEntlastung des Präsidiums\n\n\nBestellung des Kassenprüfers\n\n\nMitgliedsbeitrag\n\n\nVerschiedenes\n\nDie Veranstaltungsübersicht 2021 und der Finanzbericht 2021 werden vor der Jahreshauptversammlung ausgelegt. \nIch würde mich freuen\, möglichst viele Mitglieder zu unserer Versammlung begrüßen zu können. \nMit freundlichen Grüßen \nAndreas Loesch – Präsident
URL:https://ch-bonn.de/event/ch-jahreshauptversammlung-2/
LOCATION:Trinkpavillon/Kurfürstenquelle Bad Godesberg\, Koblenzer Str. 80\, Bonn\, 53177
CATEGORIES:Jahreshauptversammlung
END:VEVENT
END:VCALENDAR