BEGIN:VCALENDAR
VERSION:2.0
PRODID:-//Colloquium Humanum e.V. - ECPv6.15.20//NONSGML v1.0//EN
CALSCALE:GREGORIAN
METHOD:PUBLISH
X-WR-CALNAME:Colloquium Humanum e.V.
X-ORIGINAL-URL:https://ch-bonn.de
X-WR-CALDESC:Veranstaltungen für Colloquium Humanum e.V.
REFRESH-INTERVAL;VALUE=DURATION:PT1H
X-Robots-Tag:noindex
X-PUBLISHED-TTL:PT1H
BEGIN:VTIMEZONE
TZID:Europe/Berlin
BEGIN:DAYLIGHT
TZOFFSETFROM:+0100
TZOFFSETTO:+0200
TZNAME:CEST
DTSTART:20210328T010000
END:DAYLIGHT
BEGIN:STANDARD
TZOFFSETFROM:+0200
TZOFFSETTO:+0100
TZNAME:CET
DTSTART:20211031T010000
END:STANDARD
BEGIN:DAYLIGHT
TZOFFSETFROM:+0100
TZOFFSETTO:+0200
TZNAME:CEST
DTSTART:20220327T010000
END:DAYLIGHT
BEGIN:STANDARD
TZOFFSETFROM:+0200
TZOFFSETTO:+0100
TZNAME:CET
DTSTART:20221030T010000
END:STANDARD
BEGIN:DAYLIGHT
TZOFFSETFROM:+0100
TZOFFSETTO:+0200
TZNAME:CEST
DTSTART:20230326T010000
END:DAYLIGHT
BEGIN:STANDARD
TZOFFSETFROM:+0200
TZOFFSETTO:+0100
TZNAME:CET
DTSTART:20231029T010000
END:STANDARD
END:VTIMEZONE
BEGIN:VEVENT
DTSTART;TZID=Europe/Berlin:20220907T190000
DTEND;TZID=Europe/Berlin:20220907T190000
DTSTAMP:20260423T155239
CREATED:20220726T092452Z
LAST-MODIFIED:20220929T110012Z
UID:5139-1662577200-1662577200@ch-bonn.de
SUMMARY:Länderabend Polen/Ukraine
DESCRIPTION:Andreas Loesch\, Präsident des Colloquium Humanum e.V.\nJakub Wawrzynia\, Generalkonsul von Polen\nFrau Iryna Shu\, Generalkonsulin der Ukraine\nladen ein zum \n„Länderabend Polen / Ukraine“\nSeit dem russischen Überfall vom 24.02.2022 herrscht Krieg in der Ukraine. Europa steht unter Schock. Niemand hätte geglaubt\, dass eine solche Entwicklung nach langen Jahren des Friedens Wirklichkeit werden könnte. Aus dem Westen erhält die Ukraine seitdem umfangreiche humanitäre und militärische Hilfe. \nGeneralkonsulin Shum berichtet über die aktuelle Lage\, aber auch über die Geschichte der Ukraine. \nPolen ist das westliche Nachbarland der Ukraine und hat sich in der Unterstützung des Landes besonders stark politisch und militärisch engagiert. Generalkonsul Wawrzyniak wird dieses Engagement für die Ukraine darstellen. \nEin kleines Musikprogramm mit Werken ukrainischer und polnischer Komponisten ergänzt die Ausführungen der Referenten. Es spielt die renommierte ukrainische Pianistin Violina Petrychenko. \nIm Anschluss lädt das CH zu einem kleinen Empfang ein. \nDas CH dankt seinen Partnern und der Bücherei der Erlöser-Kirchengemeinde\, Frau Rosemarie Kimmerle\, für die gute Zusammenarbeit.
URL:https://ch-bonn.de/event/laenderabend-polen-ukraine-mit-generalkonsul-polen-und-generalkonsulin-ukraine/
LOCATION:Historischer Gemeindesaal der Erlöser-Kirchengemeinde\, Kronprinzenstr. 31\, 53173 Bonn
CATEGORIES:Länderabend
END:VEVENT
END:VCALENDAR