BEGIN:VCALENDAR
VERSION:2.0
PRODID:-//Colloquium Humanum e.V. - ECPv6.15.20//NONSGML v1.0//EN
CALSCALE:GREGORIAN
METHOD:PUBLISH
X-WR-CALNAME:Colloquium Humanum e.V.
X-ORIGINAL-URL:https://ch-bonn.de
X-WR-CALDESC:Veranstaltungen für Colloquium Humanum e.V.
REFRESH-INTERVAL;VALUE=DURATION:PT1H
X-Robots-Tag:noindex
X-PUBLISHED-TTL:PT1H
BEGIN:VTIMEZONE
TZID:Europe/Berlin
BEGIN:DAYLIGHT
TZOFFSETFROM:+0100
TZOFFSETTO:+0200
TZNAME:CEST
DTSTART:20210328T010000
END:DAYLIGHT
BEGIN:STANDARD
TZOFFSETFROM:+0200
TZOFFSETTO:+0100
TZNAME:CET
DTSTART:20211031T010000
END:STANDARD
BEGIN:DAYLIGHT
TZOFFSETFROM:+0100
TZOFFSETTO:+0200
TZNAME:CEST
DTSTART:20220327T010000
END:DAYLIGHT
BEGIN:STANDARD
TZOFFSETFROM:+0200
TZOFFSETTO:+0100
TZNAME:CET
DTSTART:20221030T010000
END:STANDARD
BEGIN:DAYLIGHT
TZOFFSETFROM:+0100
TZOFFSETTO:+0200
TZNAME:CEST
DTSTART:20230326T010000
END:DAYLIGHT
BEGIN:STANDARD
TZOFFSETFROM:+0200
TZOFFSETTO:+0100
TZNAME:CET
DTSTART:20231029T010000
END:STANDARD
END:VTIMEZONE
BEGIN:VEVENT
DTSTART;TZID=Europe/Berlin:20220709T163000
DTEND;TZID=Europe/Berlin:20220709T163000
DTSTAMP:20260425T135106
CREATED:20220118T121349Z
LAST-MODIFIED:20220929T110053Z
UID:4661-1657384200-1657384200@ch-bonn.de
SUMMARY:Sommerfest „Ganz in Weiß!“ auf der lauschigen Terrasse der Waldau
DESCRIPTION:Wieder ein unvergessliches Erlebnis mit der 5-köpfigen Band „The Famous – Aix Five“. \nWir feiern auf einer großzügigen Terrasse ausgelassen am Waldrand. Dem Motto entsprechend freuen wir uns\, Sie weitgehendst in weißer Kleidung zu begrüßen.
URL:https://ch-bonn.de/event/sommerfest-3/
LOCATION:Gasthaus Waldau\, An der Waldau 50\, 53127 Bonn-Venusberg
CATEGORIES:Fest
END:VEVENT
END:VCALENDAR