BEGIN:VCALENDAR
VERSION:2.0
PRODID:-//Colloquium Humanum e.V. - ECPv6.15.20//NONSGML v1.0//EN
CALSCALE:GREGORIAN
METHOD:PUBLISH
X-WR-CALNAME:Colloquium Humanum e.V.
X-ORIGINAL-URL:https://ch-bonn.de
X-WR-CALDESC:Veranstaltungen für Colloquium Humanum e.V.
REFRESH-INTERVAL;VALUE=DURATION:PT1H
X-Robots-Tag:noindex
X-PUBLISHED-TTL:PT1H
BEGIN:VTIMEZONE
TZID:Europe/Berlin
BEGIN:DAYLIGHT
TZOFFSETFROM:+0100
TZOFFSETTO:+0200
TZNAME:CEST
DTSTART:20210328T010000
END:DAYLIGHT
BEGIN:STANDARD
TZOFFSETFROM:+0200
TZOFFSETTO:+0100
TZNAME:CET
DTSTART:20211031T010000
END:STANDARD
BEGIN:DAYLIGHT
TZOFFSETFROM:+0100
TZOFFSETTO:+0200
TZNAME:CEST
DTSTART:20220327T010000
END:DAYLIGHT
BEGIN:STANDARD
TZOFFSETFROM:+0200
TZOFFSETTO:+0100
TZNAME:CET
DTSTART:20221030T010000
END:STANDARD
BEGIN:DAYLIGHT
TZOFFSETFROM:+0100
TZOFFSETTO:+0200
TZNAME:CEST
DTSTART:20230326T010000
END:DAYLIGHT
BEGIN:STANDARD
TZOFFSETFROM:+0200
TZOFFSETTO:+0100
TZNAME:CET
DTSTART:20231029T010000
END:STANDARD
END:VTIMEZONE
BEGIN:VEVENT
DTSTART;VALUE=DATE:20220621
DTEND;VALUE=DATE:20220622
DTSTAMP:20260425T154358
CREATED:20220331T070517Z
LAST-MODIFIED:20220929T110334Z
UID:4882-1655769600-1655855999@ch-bonn.de
SUMMARY:CHD-Fahrt durch die Vulkaneifel
DESCRIPTION:Besichtigung der Glockengießerei in Brockscheid und Führung durch den kurfürstlichen Kurort Bad Bertrich \nDie Glockengießerei in Brockscheid entstand 1840 und konnte von der Familie H. A. Mark 5 Generationen lang erfolgreich betrieben werden. Nun\, heute braucht man keine Glocke mehr. Die Produktion wurde eingestellt und das ganze Gelände verkauft. Dennoch haben wir die Chance – vielleicht die letzte -\, die Entstehung einer Glocke in der originalen\, urigen „Gießhalle“ durch den letzten Eigentümer erklärt zu bekommen. \nNach dem Mittagessen fahren wir durch „Maaren“-Landschaften zum idyllischen Thermalort Bad Bertrich\, wo Clemens Wenzeslaus von Sachsen\, der letzte Kurfürst von Trier\, 1785 ein Schlösschen – heute Standesamt – erbauen ließ. Heutzutage vermarktet Bad Bertrich seine Heilquelle unter der Bezeichnung „Gesundland-Vulkaneifel“. \nKostenbeitrag: \n(für Busfahrt\, Eintritt\, Führung)       35\,00 € Mitglieder – 40\,00 € Gäste \n(Mittagessen und Kaffeetrinken auf eigene Kosten) \nHerren und Gäste sind wie immer willkommen. \nMit freundlichen Grüßen \nMonique Mühlens \nMarie-Louise Schmidt-Soupart \nColloquium Humanum e.V. tritt im juristischen Sinn nicht als Reiseveranstalter auf und schließt damit jede Haftung aus. Die Teilnahme an der Fahrt findet auf eigenes Risiko statt.
URL:https://ch-bonn.de/event/chd-glockengiessertour/
CATEGORIES:(CHD) Tagestour
END:VEVENT
END:VCALENDAR