BEGIN:VCALENDAR
VERSION:2.0
PRODID:-//Colloquium Humanum e.V. - ECPv6.15.20//NONSGML v1.0//EN
CALSCALE:GREGORIAN
METHOD:PUBLISH
X-WR-CALNAME:Colloquium Humanum e.V.
X-ORIGINAL-URL:https://ch-bonn.de
X-WR-CALDESC:Veranstaltungen für Colloquium Humanum e.V.
REFRESH-INTERVAL;VALUE=DURATION:PT1H
X-Robots-Tag:noindex
X-PUBLISHED-TTL:PT1H
BEGIN:VTIMEZONE
TZID:Europe/Berlin
BEGIN:DAYLIGHT
TZOFFSETFROM:+0100
TZOFFSETTO:+0200
TZNAME:CEST
DTSTART:20210328T010000
END:DAYLIGHT
BEGIN:STANDARD
TZOFFSETFROM:+0200
TZOFFSETTO:+0100
TZNAME:CET
DTSTART:20211031T010000
END:STANDARD
BEGIN:DAYLIGHT
TZOFFSETFROM:+0100
TZOFFSETTO:+0200
TZNAME:CEST
DTSTART:20220327T010000
END:DAYLIGHT
BEGIN:STANDARD
TZOFFSETFROM:+0200
TZOFFSETTO:+0100
TZNAME:CET
DTSTART:20221030T010000
END:STANDARD
BEGIN:DAYLIGHT
TZOFFSETFROM:+0100
TZOFFSETTO:+0200
TZNAME:CEST
DTSTART:20230326T010000
END:DAYLIGHT
BEGIN:STANDARD
TZOFFSETFROM:+0200
TZOFFSETTO:+0100
TZNAME:CET
DTSTART:20231029T010000
END:STANDARD
END:VTIMEZONE
BEGIN:VEVENT
DTSTART;TZID=Europe/Berlin:20220603T190000
DTEND;TZID=Europe/Berlin:20220603T190000
DTSTAMP:20260425T153532
CREATED:20220513T091941Z
LAST-MODIFIED:20220607T091403Z
UID:4935-1654282800-1654282800@ch-bonn.de
SUMMARY:"Länderabend Island"
DESCRIPTION:Island ist eine Insel im Nordatlantik\, die geografisch zwischen Europa und Amerika liegt. Island ist ein Land mit atemberaubenden Naturschönheiten\, riesigen Gletschern und faszinierenden Küsten. Island hat in Thingvellir den Ort des ältesten Parlaments der Welt\, im Jahr 1000 nahm die Insel der Wikinger das Christentum an. Das Land ist seit 1944 vollständig von Dänemark unabhängig und eine parlamentarische Demokratie. Trotz der räumlich entfernten Lage hat Island immer kulturellen Kontakt zu Europa gehabt. Viele Sagen und Mythen\, die wir in Deutschland kennen\, haben ihren Ursprung in Island. \nDer heutige Länderabend versucht einen Einblick in dieses interessante Land zu vermitteln. In einem Impulsvortrag stellt die Honorarkonsulin von Island\, Frau Bettina Adenauer-Bieberstein\, wichtige Stationen aus Geschichte\, Politik und Kultur Islands vor. Darauf folgt eine Diskussion. \nIm Anschluss wird der renommierte isländische Bariton\, Sigurður Bragason\, am Flügel begleitet von Hjálmur Sighvatsson\, musikalisch die Verbindungen Islands zur europäischen Kultur aufzeigen. Das Konzert hat den Titel: „Wagner\, Nietzsche\, Liszt und die Gesänge aus den Isländischen Sagas“. Die Künstler stellen dieses Konzertprogramm auch während der diesjährigen Bayreuther Festspiele am 23. August in der „Villa Wahnfried“ vor. \nEin kleiner Empfang beschließt den Abend. \nDas CH dankt der Bücherei der Erlöser-Kirchengemeinde\, Frau Rosemarie Kimmerle\, für die gute Zusammenarbeit. \nDie Veranstaltung ist eine Kooperation des Colloquium Humanum mit dem Richard-Wagner-Verband Bonn\, der Johannes-Wasmuth-Gesellschaft und der Arbeitsgemeinschaft für Bildung und Kultur Bonn und Umgebung (ABK).
URL:https://ch-bonn.de/event/laenderabend-island-2/
LOCATION:Historischer Gemeindesaal der Erlöser-Kirchengemeinde\, Kronprinzenstr. 31\, 53173 Bonn
CATEGORIES:Länderabend
END:VEVENT
END:VCALENDAR